BEGIN:VCALENDAR
VERSION:2.0
PRODID:-//Haigh Hall Golf Club - ECPv6.15.20//NONSGML v1.0//EN
CALSCALE:GREGORIAN
METHOD:PUBLISH
X-WR-CALNAME:Haigh Hall Golf Club
X-ORIGINAL-URL:https://haighhall-golfclub.co.uk
X-WR-CALDESC:Events for Haigh Hall Golf Club
REFRESH-INTERVAL;VALUE=DURATION:PT1H
X-Robots-Tag:noindex
X-PUBLISHED-TTL:PT1H
BEGIN:VTIMEZONE
TZID:UTC
BEGIN:STANDARD
TZOFFSETFROM:+0000
TZOFFSETTO:+0000
TZNAME:UTC
DTSTART:20240101T000000
END:STANDARD
END:VTIMEZONE
BEGIN:VEVENT
DTSTART;TZID=UTC:20250604T080000
DTEND;TZID=UTC:20250604T170000
DTSTAMP:20260423T045721
CREATED:20250213T102033Z
LAST-MODIFIED:20250612T091330Z
UID:1080-1749024000-1749056400@haighhall-golfclub.co.uk
SUMMARY:Doris Eyres Trophy
DESCRIPTION:Winner \n\nH Wilcox\n\nDivisions \n\nC Lee\nP O’Neil
URL:https://haighhall-golfclub.co.uk/competitions/doris-eyres-trophy-2/
END:VEVENT
BEGIN:VEVENT
DTSTART;TZID=UTC:20250601T080000
DTEND;TZID=UTC:20250601T170000
DTSTAMP:20260423T045721
CREATED:20250213T100207Z
LAST-MODIFIED:20250601T180654Z
UID:1022-1748764800-1748797200@haighhall-golfclub.co.uk
SUMMARY:Founders Trophy
DESCRIPTION:Winner \n\nB Higham 67 nett\n\nDivision Winners \n\nS Davies\nJ Shepherd\nM Jukes
URL:https://haighhall-golfclub.co.uk/competitions/founders-trophy/
END:VEVENT
BEGIN:VEVENT
DTSTART;TZID=UTC:20250531T080000
DTEND;TZID=UTC:20250531T170000
DTSTAMP:20260423T045722
CREATED:20250213T110008Z
LAST-MODIFIED:20250601T180817Z
UID:1133-1748678400-1748710800@haighhall-golfclub.co.uk
SUMMARY:Jack Corrigan Round 3
DESCRIPTION:Winners \n\nJ Egan\nA Gwinnett
URL:https://haighhall-golfclub.co.uk/competitions/jack-corrigan-round-3/
END:VEVENT
BEGIN:VEVENT
DTSTART;TZID=UTC:20250529T080000
DTEND;TZID=UTC:20250529T170000
DTSTAMP:20260423T045722
CREATED:20250213T112855Z
LAST-MODIFIED:20250213T112855Z
UID:1188-1748505600-1748538000@haighhall-golfclub.co.uk
SUMMARY:Stan Caldwell Qualifier
DESCRIPTION:
URL:https://haighhall-golfclub.co.uk/competitions/stan-caldwell-qualifier-2/
CATEGORIES:9 Hole Competition
END:VEVENT
BEGIN:VEVENT
DTSTART;TZID=UTC:20250528T080000
DTEND;TZID=UTC:20250528T170000
DTSTAMP:20260423T045722
CREATED:20250213T101956Z
LAST-MODIFIED:20250529T082922Z
UID:1078-1748419200-1748451600@haighhall-golfclub.co.uk
SUMMARY:John Rogers Trophy
DESCRIPTION:Winner \n\nP Jennings 39 pts\n\nDivisions \n\nJ Norton\nP O’Neil
URL:https://haighhall-golfclub.co.uk/competitions/john-rogers-trophy/
END:VEVENT
BEGIN:VEVENT
DTSTART;TZID=UTC:20250525T080000
DTEND;TZID=UTC:20250525T170000
DTSTAMP:20260423T045722
CREATED:20250213T100129Z
LAST-MODIFIED:20250526T082807Z
UID:1020-1748160000-1748192400@haighhall-golfclub.co.uk
SUMMARY:Presidents Cup
DESCRIPTION:Winner \n\nT Hepworth nett 69\n\nDivisions \n\nP Jennings\nJ Eastham\nK White
URL:https://haighhall-golfclub.co.uk/competitions/presidents-cup-2/
END:VEVENT
BEGIN:VEVENT
DTSTART;TZID=UTC:20250524T080000
DTEND;TZID=UTC:20250524T170000
DTSTAMP:20260423T045722
CREATED:20250213T105924Z
LAST-MODIFIED:20250526T082612Z
UID:1130-1748073600-1748106000@haighhall-golfclub.co.uk
SUMMARY:Saturday May Medal
DESCRIPTION:Winner \n\nM Harrison nett 68\n\nDivision \n\nN Unsworth
URL:https://haighhall-golfclub.co.uk/competitions/saturday-may-medal/
END:VEVENT
BEGIN:VEVENT
DTSTART;TZID=UTC:20250522T000000
DTEND;TZID=UTC:20250522T000000
DTSTAMP:20260423T045722
CREATED:20250213T112542Z
LAST-MODIFIED:20250213T112707Z
UID:1183-1747872000-1747872000@haighhall-golfclub.co.uk
SUMMARY:Alan Hamblett Award Round 2
DESCRIPTION:
URL:https://haighhall-golfclub.co.uk/competitions/alan-hamblett-award-round-2/
CATEGORIES:9 Hole Competition
END:VEVENT
BEGIN:VEVENT
DTSTART;TZID=UTC:20250521T080000
DTEND;TZID=UTC:20250521T170000
DTSTAMP:20260423T045722
CREATED:20250213T101917Z
LAST-MODIFIED:20250521T174233Z
UID:1076-1747814400-1747846800@haighhall-golfclub.co.uk
SUMMARY:Seniors May Medal
DESCRIPTION:Winners \n\nP Jennings 66 Net\n\nDivision \n\nT Eden 68 Nett
URL:https://haighhall-golfclub.co.uk/competitions/seniors-may-medal-2/
END:VEVENT
BEGIN:VEVENT
DTSTART;TZID=UTC:20250518T080000
DTEND;TZID=UTC:20250518T170000
DTSTAMP:20260423T045722
CREATED:20250213T100038Z
LAST-MODIFIED:20250518T181805Z
UID:1018-1747555200-1747587600@haighhall-golfclub.co.uk
SUMMARY:Past Captains Trophy
DESCRIPTION:Winner \n\nF Carberry net 66\n\nDivisions \n\nG Gannon\nR Sinclair\nB Higham
URL:https://haighhall-golfclub.co.uk/competitions/past-captains-trophy-2/
END:VEVENT
BEGIN:VEVENT
DTSTART;TZID=UTC:20250517T080000
DTEND;TZID=UTC:20250517T170000
DTSTAMP:20260423T045722
CREATED:20250213T105649Z
LAST-MODIFIED:20250518T181630Z
UID:1127-1747468800-1747501200@haighhall-golfclub.co.uk
SUMMARY:Jack Corrigan Round 2
DESCRIPTION:Winners \n\n1st D Caton 45pts\n2nd B McDonnell 40pts\n3rd G Gannon 38pts
URL:https://haighhall-golfclub.co.uk/competitions/jack-corrigan-round-2/
END:VEVENT
BEGIN:VEVENT
DTSTART;TZID=UTC:20250515T080000
DTEND;TZID=UTC:20250515T170000
DTSTAMP:20260423T045722
CREATED:20250213T111903Z
LAST-MODIFIED:20250213T111903Z
UID:1181-1747296000-1747328400@haighhall-golfclub.co.uk
SUMMARY:Thursday Merit Round 2
DESCRIPTION:
URL:https://haighhall-golfclub.co.uk/competitions/thursday-merit-round-2/
END:VEVENT
BEGIN:VEVENT
DTSTART;TZID=UTC:20250514T080000
DTEND;TZID=UTC:20250514T170000
DTSTAMP:20260423T045722
CREATED:20250213T101845Z
LAST-MODIFIED:20250515T100642Z
UID:1074-1747209600-1747242000@haighhall-golfclub.co.uk
SUMMARY:Frank Wood Trophy
DESCRIPTION:Winner \n\nF Carberry\n\nDivisions \n\nC Griffiths\nD Derbyshire
URL:https://haighhall-golfclub.co.uk/competitions/frank-wood-trophy-2/
END:VEVENT
BEGIN:VEVENT
DTSTART;TZID=UTC:20250511T080000
DTEND;TZID=UTC:20250511T170000
DTSTAMP:20260423T045722
CREATED:20250213T095957Z
LAST-MODIFIED:20250511T172229Z
UID:1016-1746950400-1746982800@haighhall-golfclub.co.uk
SUMMARY:Two Left Feet Round 1
DESCRIPTION:Winning Team \n\nM Case\nC Griffiths\nB McDonnell
URL:https://haighhall-golfclub.co.uk/competitions/two-left-feet-round-1/
END:VEVENT
BEGIN:VEVENT
DTSTART;TZID=UTC:20250510T080000
DTEND;TZID=UTC:20250510T170000
DTSTAMP:20260423T045722
CREATED:20250213T105543Z
LAST-MODIFIED:20250511T171950Z
UID:1125-1746864000-1746896400@haighhall-golfclub.co.uk
SUMMARY:Saturday Opening Medal
DESCRIPTION:Winner \n\nD Tarbuck\n\nDivision \n\nA Baybutt
URL:https://haighhall-golfclub.co.uk/competitions/saturday-opening-medal/
END:VEVENT
BEGIN:VEVENT
DTSTART;TZID=UTC:20250508T080000
DTEND;TZID=UTC:20250508T170000
DTSTAMP:20260423T045722
CREATED:20250213T111808Z
LAST-MODIFIED:20250213T111808Z
UID:1179-1746691200-1746723600@haighhall-golfclub.co.uk
SUMMARY:Thursday Merit Round 1
DESCRIPTION:
URL:https://haighhall-golfclub.co.uk/competitions/thursday-merit-round-1/
END:VEVENT
BEGIN:VEVENT
DTSTART;TZID=UTC:20250507T080000
DTEND;TZID=UTC:20250507T170000
DTSTAMP:20260423T045722
CREATED:20250213T101814Z
LAST-MODIFIED:20250511T172522Z
UID:1072-1746604800-1746637200@haighhall-golfclub.co.uk
SUMMARY:John Hooton Trophy
DESCRIPTION:Winner \n\nD Eastham\n\nDivision \n\nD Patterson\nJ Main
URL:https://haighhall-golfclub.co.uk/competitions/john-hooton-trophy-2/
END:VEVENT
BEGIN:VEVENT
DTSTART;TZID=UTC:20250504T080000
DTEND;TZID=UTC:20250504T170000
DTSTAMP:20260423T045722
CREATED:20250213T095923Z
LAST-MODIFIED:20250505T083836Z
UID:1014-1746345600-1746378000@haighhall-golfclub.co.uk
SUMMARY:Captains Cup
DESCRIPTION:Winner \n\nB Leahy\n\nDivisions \n\nM Harrison\nD Owen\nJ Leigh
URL:https://haighhall-golfclub.co.uk/competitions/captains-cup-3/
END:VEVENT
BEGIN:VEVENT
DTSTART;TZID=UTC:20250503T080000
DTEND;TZID=UTC:20250503T170000
DTSTAMP:20260423T045722
CREATED:20250213T105508Z
LAST-MODIFIED:20250511T172128Z
UID:1123-1746259200-1746291600@haighhall-golfclub.co.uk
SUMMARY:Jack Corrigan Round 1
DESCRIPTION:Winners. \n\nD Grayson 39 pts\nC Gallagher 38 pts\nCaptain 37 pts
URL:https://haighhall-golfclub.co.uk/competitions/saturday-merit-round-1/
END:VEVENT
BEGIN:VEVENT
DTSTART;TZID=UTC:20250501T080000
DTEND;TZID=UTC:20250501T170000
DTSTAMP:20260423T045722
CREATED:20250213T111713Z
LAST-MODIFIED:20250213T111713Z
UID:1177-1746086400-1746118800@haighhall-golfclub.co.uk
SUMMARY:Stan Caldwell Qualifier
DESCRIPTION:
URL:https://haighhall-golfclub.co.uk/competitions/stan-caldwell-qualifier/
END:VEVENT
BEGIN:VEVENT
DTSTART;TZID=UTC:20250430T080000
DTEND;TZID=UTC:20250430T170000
DTSTAMP:20260423T045722
CREATED:20250213T101744Z
LAST-MODIFIED:20250505T083511Z
UID:1070-1746000000-1746032400@haighhall-golfclub.co.uk
SUMMARY:Seniors Opening Medal
DESCRIPTION:Winner \n\nS Turner\n\nDivision \n\nD Derbyshire
URL:https://haighhall-golfclub.co.uk/competitions/seniors-opening-medal/
END:VEVENT
BEGIN:VEVENT
DTSTART;TZID=UTC:20250427T080000
DTEND;TZID=UTC:20250427T170000
DTSTAMP:20260423T045722
CREATED:20250213T095658Z
LAST-MODIFIED:20250427T160045Z
UID:1012-1745740800-1745773200@haighhall-golfclub.co.uk
SUMMARY:Geoff Hayton Trophy
DESCRIPTION:Winner \n\nM Harrison nett 62\n\nDivisions \n\nC Griffiths\nP Hepworth\nJ Eastham
URL:https://haighhall-golfclub.co.uk/competitions/geoff-hayton-trophy-2/
END:VEVENT
BEGIN:VEVENT
DTSTART;TZID=UTC:20250426T080000
DTEND;TZID=UTC:20250426T170000
DTSTAMP:20260423T045722
CREATED:20250213T105429Z
LAST-MODIFIED:20250426T143242Z
UID:1121-1745654400-1745686800@haighhall-golfclub.co.uk
SUMMARY:David Keates Trophy
DESCRIPTION:Winner \n\nM Harrison\n\nDivision \n\nR Holden
URL:https://haighhall-golfclub.co.uk/competitions/david-keates-trophy/
END:VEVENT
BEGIN:VEVENT
DTSTART;TZID=UTC:20250424T080000
DTEND;TZID=UTC:20250424T170000
DTSTAMP:20260423T045722
CREATED:20250213T111627Z
LAST-MODIFIED:20250213T112809Z
UID:1175-1745481600-1745514000@haighhall-golfclub.co.uk
SUMMARY:Alan Hamblett Award Round 1
DESCRIPTION:
URL:https://haighhall-golfclub.co.uk/competitions/alan-hamblet-award-round-1/
CATEGORIES:9 Hole Competition
END:VEVENT
BEGIN:VEVENT
DTSTART;TZID=UTC:20250423T080000
DTEND;TZID=UTC:20250423T170000
DTSTAMP:20260423T045722
CREATED:20250213T101703Z
LAST-MODIFIED:20250213T101703Z
UID:1068-1745395200-1745427600@haighhall-golfclub.co.uk
SUMMARY:Seniors Merit Round 4
DESCRIPTION:
URL:https://haighhall-golfclub.co.uk/competitions/seniors-merit-round-4-2/
END:VEVENT
BEGIN:VEVENT
DTSTART;TZID=UTC:20250420T080000
DTEND;TZID=UTC:20250420T170000
DTSTAMP:20260423T045722
CREATED:20250213T095618Z
LAST-MODIFIED:20250420T135440Z
UID:1010-1745136000-1745168400@haighhall-golfclub.co.uk
SUMMARY:Jack Carrington Pairs
DESCRIPTION:Winners \n\nA Toole & N Ryan 46 pts\n\nSecond \n\nC Seabrook & P Ratchford 44 pts
URL:https://haighhall-golfclub.co.uk/competitions/jack-carrington-pairs-2/
END:VEVENT
BEGIN:VEVENT
DTSTART;TZID=UTC:20250419T080000
DTEND;TZID=UTC:20250419T170000
DTSTAMP:20260423T045722
CREATED:20250213T105353Z
LAST-MODIFIED:20250419T144829Z
UID:1119-1745049600-1745082000@haighhall-golfclub.co.uk
SUMMARY:Posy Bowl
DESCRIPTION:Winner \n\nB McDonnell 37 pts\n\nDivision \n\nCaptain A Ball
URL:https://haighhall-golfclub.co.uk/competitions/posy-bowl-2/
END:VEVENT
BEGIN:VEVENT
DTSTART;TZID=UTC:20250416T080000
DTEND;TZID=UTC:20250416T170000
DTSTAMP:20260423T045722
CREATED:20250213T101626Z
LAST-MODIFIED:20250213T101626Z
UID:1066-1744790400-1744822800@haighhall-golfclub.co.uk
SUMMARY:Seniors Merit Round 3
DESCRIPTION:
URL:https://haighhall-golfclub.co.uk/competitions/seniors-merit-round-3/
END:VEVENT
BEGIN:VEVENT
DTSTART;TZID=UTC:20250413T080000
DTEND;TZID=UTC:20250413T170000
DTSTAMP:20260423T045722
CREATED:20250213T095522Z
LAST-MODIFIED:20250413T173151Z
UID:1008-1744531200-1744563600@haighhall-golfclub.co.uk
SUMMARY:Jameson's Cup
DESCRIPTION:Winner \n\nN Guy 40pts\n\nDivision Winners \n\nP Ratchford\nC Griffiths\nD Moore
URL:https://haighhall-golfclub.co.uk/competitions/jamesons-cup-2/
END:VEVENT
BEGIN:VEVENT
DTSTART;TZID=UTC:20250412T080000
DTEND;TZID=UTC:20250412T170000
DTSTAMP:20260423T045722
CREATED:20250412T181219Z
LAST-MODIFIED:20250412T181219Z
UID:1275-1744444800-1744477200@haighhall-golfclub.co.uk
SUMMARY:Better Ball
DESCRIPTION:Winners \n\nB Higham and M Gillard 45pts
URL:https://haighhall-golfclub.co.uk/competitions/better-ball-2/
END:VEVENT
END:VCALENDAR