BEGIN:VCALENDAR
VERSION:2.0
PRODID:-//Haigh Hall Golf Club - ECPv6.15.20//NONSGML v1.0//EN
CALSCALE:GREGORIAN
METHOD:PUBLISH
X-WR-CALNAME:Haigh Hall Golf Club
X-ORIGINAL-URL:https://haighhall-golfclub.co.uk
X-WR-CALDESC:Events for Haigh Hall Golf Club
REFRESH-INTERVAL;VALUE=DURATION:PT1H
X-Robots-Tag:noindex
X-PUBLISHED-TTL:PT1H
BEGIN:VTIMEZONE
TZID:UTC
BEGIN:STANDARD
TZOFFSETFROM:+0000
TZOFFSETTO:+0000
TZNAME:UTC
DTSTART:20240101T000000
END:STANDARD
END:VTIMEZONE
BEGIN:VEVENT
DTSTART;TZID=UTC:20250727T080000
DTEND;TZID=UTC:20250727T170000
DTSTAMP:20260423T045636
CREATED:20250213T100634Z
LAST-MODIFIED:20250213T100634Z
UID:1036-1753603200-1753635600@haighhall-golfclub.co.uk
SUMMARY:Secretary's Cup
DESCRIPTION:
URL:https://haighhall-golfclub.co.uk/competitions/secretarys-cup-2/
END:VEVENT
BEGIN:VEVENT
DTSTART;TZID=UTC:20250726T080000
DTEND;TZID=UTC:20250726T170000
DTSTAMP:20260423T045636
CREATED:20250213T110548Z
LAST-MODIFIED:20250213T110548Z
UID:1150-1753516800-1753549200@haighhall-golfclub.co.uk
SUMMARY:Saturday July Medal
DESCRIPTION:
URL:https://haighhall-golfclub.co.uk/competitions/saturday-july-medal/
END:VEVENT
BEGIN:VEVENT
DTSTART;TZID=UTC:20250724T080000
DTEND;TZID=UTC:20250724T170000
DTSTAMP:20260423T045636
CREATED:20250213T113633Z
LAST-MODIFIED:20250213T113633Z
UID:1204-1753344000-1753376400@haighhall-golfclub.co.uk
SUMMARY:Alan Hamblett Award Round 4
DESCRIPTION:
URL:https://haighhall-golfclub.co.uk/competitions/alan-hamblett-award-round-4/
CATEGORIES:9 Hole Competition
END:VEVENT
BEGIN:VEVENT
DTSTART;TZID=UTC:20250723T080000
DTEND;TZID=UTC:20250723T170000
DTSTAMP:20260423T045636
CREATED:20250213T102503Z
LAST-MODIFIED:20250213T102503Z
UID:1094-1753257600-1753290000@haighhall-golfclub.co.uk
SUMMARY:Seniors Club Championship Round 2
DESCRIPTION:
URL:https://haighhall-golfclub.co.uk/competitions/seniors-club-championship-round-2/
END:VEVENT
BEGIN:VEVENT
DTSTART;TZID=UTC:20250720T080000
DTEND;TZID=UTC:20250720T170000
DTSTAMP:20260423T045636
CREATED:20250213T100551Z
LAST-MODIFIED:20250213T100551Z
UID:1034-1752998400-1753030800@haighhall-golfclub.co.uk
SUMMARY:Club Championship Round 2
DESCRIPTION:
URL:https://haighhall-golfclub.co.uk/competitions/club-championship-round-2-2/
END:VEVENT
BEGIN:VEVENT
DTSTART;TZID=UTC:20250719T080000
DTEND;TZID=UTC:20250719T170000
DTSTAMP:20260423T045636
CREATED:20250213T110515Z
LAST-MODIFIED:20250213T110515Z
UID:1148-1752912000-1752944400@haighhall-golfclub.co.uk
SUMMARY:Ladies Club Championship Round 2
DESCRIPTION:
URL:https://haighhall-golfclub.co.uk/competitions/ladies-club-championship-round-2/
END:VEVENT
BEGIN:VEVENT
DTSTART;TZID=UTC:20250717T080000
DTEND;TZID=UTC:20250717T170000
DTSTAMP:20260423T045636
CREATED:20250213T113550Z
LAST-MODIFIED:20250213T113550Z
UID:1202-1752739200-1752771600@haighhall-golfclub.co.uk
SUMMARY:Thursday Merit Round 5
DESCRIPTION:
URL:https://haighhall-golfclub.co.uk/competitions/thursday-merit-round-5/
CATEGORIES:9 Hole Competition
END:VEVENT
BEGIN:VEVENT
DTSTART;TZID=UTC:20250716T080000
DTEND;TZID=UTC:20250716T170000
DTSTAMP:20260423T045636
CREATED:20250213T102425Z
LAST-MODIFIED:20250213T102425Z
UID:1092-1752652800-1752685200@haighhall-golfclub.co.uk
SUMMARY:Seniors Club Championship Round 1
DESCRIPTION:
URL:https://haighhall-golfclub.co.uk/competitions/seniors-club-championship-round-1/
END:VEVENT
BEGIN:VEVENT
DTSTART;TZID=UTC:20250713T080000
DTEND;TZID=UTC:20250713T170000
DTSTAMP:20260423T045636
CREATED:20250213T100501Z
LAST-MODIFIED:20250213T100501Z
UID:1032-1752393600-1752426000@haighhall-golfclub.co.uk
SUMMARY:Club Championship Round 1
DESCRIPTION:
URL:https://haighhall-golfclub.co.uk/competitions/club-championship-round-1-2/
END:VEVENT
BEGIN:VEVENT
DTSTART;TZID=UTC:20250712T080000
DTEND;TZID=UTC:20250712T170000
DTSTAMP:20260423T045636
CREATED:20250213T110432Z
LAST-MODIFIED:20250213T110432Z
UID:1146-1752307200-1752339600@haighhall-golfclub.co.uk
SUMMARY:Ladies Club Championship Round 1
DESCRIPTION:
URL:https://haighhall-golfclub.co.uk/competitions/ladies-club-championship-round-1/
END:VEVENT
BEGIN:VEVENT
DTSTART;TZID=UTC:20250710T080000
DTEND;TZID=UTC:20250710T170000
DTSTAMP:20260423T045636
CREATED:20250213T113502Z
LAST-MODIFIED:20250213T113502Z
UID:1200-1752134400-1752166800@haighhall-golfclub.co.uk
SUMMARY:Stan Caldwell Qualifier
DESCRIPTION:
URL:https://haighhall-golfclub.co.uk/competitions/stan-caldwell-qualifier-5/
CATEGORIES:9 Hole Competition
END:VEVENT
BEGIN:VEVENT
DTSTART;TZID=UTC:20250709T080000
DTEND;TZID=UTC:20250709T170000
DTSTAMP:20260423T045636
CREATED:20250213T102346Z
LAST-MODIFIED:20250213T102346Z
UID:1090-1752048000-1752080400@haighhall-golfclub.co.uk
SUMMARY:Seniors Merit Round 6
DESCRIPTION:
URL:https://haighhall-golfclub.co.uk/competitions/seniors-merit-round-6/
END:VEVENT
BEGIN:VEVENT
DTSTART;TZID=UTC:20250705T080000
DTEND;TZID=UTC:20250705T170000
DTSTAMP:20260423T045636
CREATED:20250213T110352Z
LAST-MODIFIED:20250213T110352Z
UID:1144-1751702400-1751734800@haighhall-golfclub.co.uk
SUMMARY:Farrimond Sheild
DESCRIPTION:
URL:https://haighhall-golfclub.co.uk/competitions/farrimond-sheild/
END:VEVENT
BEGIN:VEVENT
DTSTART;TZID=UTC:20250703T080000
DTEND;TZID=UTC:20250703T170000
DTSTAMP:20260423T045636
CREATED:20250213T113346Z
LAST-MODIFIED:20250213T113415Z
UID:1198-1751529600-1751562000@haighhall-golfclub.co.uk
SUMMARY:Thursday Merit Round 4
DESCRIPTION:
URL:https://haighhall-golfclub.co.uk/competitions/thursday-merit-round-4/
CATEGORIES:9 Hole Competition
END:VEVENT
BEGIN:VEVENT
DTSTART;TZID=UTC:20250702T080000
DTEND;TZID=UTC:20250702T170000
DTSTAMP:20260423T045636
CREATED:20250213T102301Z
LAST-MODIFIED:20250213T102301Z
UID:1088-1751443200-1751475600@haighhall-golfclub.co.uk
SUMMARY:Captains Cup
DESCRIPTION:
URL:https://haighhall-golfclub.co.uk/competitions/captains-cup-4/
END:VEVENT
BEGIN:VEVENT
DTSTART;TZID=UTC:20250629T080000
DTEND;TZID=UTC:20250629T170000
DTSTAMP:20260423T045636
CREATED:20250213T100424Z
LAST-MODIFIED:20250213T100424Z
UID:1030-1751184000-1751216400@haighhall-golfclub.co.uk
SUMMARY:Jubilee Trophy
DESCRIPTION:
URL:https://haighhall-golfclub.co.uk/competitions/jubilee-trophy/
END:VEVENT
BEGIN:VEVENT
DTSTART;TZID=UTC:20250628T080000
DTEND;TZID=UTC:20250628T170000
DTSTAMP:20260423T045636
CREATED:20250213T110622Z
LAST-MODIFIED:20250626T090037Z
UID:1152-1751097600-1751130000@haighhall-golfclub.co.uk
SUMMARY:Jack Corrigan Round 6
DESCRIPTION:
URL:https://haighhall-golfclub.co.uk/competitions/jack-corrigan-round-6/
END:VEVENT
BEGIN:VEVENT
DTSTART;TZID=UTC:20250626T080000
DTEND;TZID=UTC:20250626T170000
DTSTAMP:20260423T045636
CREATED:20250213T113303Z
LAST-MODIFIED:20250213T113303Z
UID:1196-1750924800-1750957200@haighhall-golfclub.co.uk
SUMMARY:Stan Caldwell Qualifier
DESCRIPTION:
URL:https://haighhall-golfclub.co.uk/competitions/stan-caldwell-qualifier-4/
CATEGORIES:9 Hole Competition
END:VEVENT
BEGIN:VEVENT
DTSTART;TZID=UTC:20250625T080000
DTEND;TZID=UTC:20250625T170000
DTSTAMP:20260423T045636
CREATED:20250213T102229Z
LAST-MODIFIED:20250626T085038Z
UID:1086-1750838400-1750870800@haighhall-golfclub.co.uk
SUMMARY:Seniors Merit Round 5
DESCRIPTION:Winners \n\nB McKee\nB Mcdonnell\nD Paterson
URL:https://haighhall-golfclub.co.uk/competitions/seniors-merit-round-5/
END:VEVENT
BEGIN:VEVENT
DTSTART;TZID=UTC:20250622T080000
DTEND;TZID=UTC:20250622T170000
DTSTAMP:20260423T045636
CREATED:20250213T100350Z
LAST-MODIFIED:20250626T084646Z
UID:1028-1750579200-1750611600@haighhall-golfclub.co.uk
SUMMARY:George Gannon Trophy
DESCRIPTION:Winner \n\nM Sidlow\n\nDivisions \n\nJ McGuire\nC Seabrook\nD Honor
URL:https://haighhall-golfclub.co.uk/competitions/george-gannon-trophy/
END:VEVENT
BEGIN:VEVENT
DTSTART;TZID=UTC:20250621T080000
DTEND;TZID=UTC:20250621T170000
DTSTAMP:20260423T045636
CREATED:20250213T110257Z
LAST-MODIFIED:20250626T085946Z
UID:1142-1750492800-1750525200@haighhall-golfclub.co.uk
SUMMARY:Jack Corrigan Round 5
DESCRIPTION:Winners \n\nR Taylor\nC Lee\nM Dyke
URL:https://haighhall-golfclub.co.uk/competitions/jack-corrigan-round-5/
END:VEVENT
BEGIN:VEVENT
DTSTART;TZID=UTC:20250619T080000
DTEND;TZID=UTC:20250619T170000
DTSTAMP:20260423T045636
CREATED:20250213T113206Z
LAST-MODIFIED:20250213T113206Z
UID:1194-1750320000-1750352400@haighhall-golfclub.co.uk
SUMMARY:Alan Hamblett Award Round 3
DESCRIPTION:
URL:https://haighhall-golfclub.co.uk/competitions/alan-hamblett-award-round-3/
CATEGORIES:9 Hole Competition
END:VEVENT
BEGIN:VEVENT
DTSTART;TZID=UTC:20250618T080000
DTEND;TZID=UTC:20250618T170000
DTSTAMP:20260423T045636
CREATED:20250213T102144Z
LAST-MODIFIED:20250626T084839Z
UID:1084-1750233600-1750266000@haighhall-golfclub.co.uk
SUMMARY:Seniors Masters
DESCRIPTION:Winner \n\nN Guy\n\nDivisions \n\nA Ball\nD Paterson
URL:https://haighhall-golfclub.co.uk/competitions/seniors-masters-2/
END:VEVENT
BEGIN:VEVENT
DTSTART;TZID=UTC:20250615T080000
DTEND;TZID=UTC:20250615T170000
DTSTAMP:20260423T045636
CREATED:20250213T100314Z
LAST-MODIFIED:20250626T084242Z
UID:1026-1749974400-1750006800@haighhall-golfclub.co.uk
SUMMARY:Masters
DESCRIPTION:Winner. \n\nN Smith
URL:https://haighhall-golfclub.co.uk/competitions/masters-2/
END:VEVENT
BEGIN:VEVENT
DTSTART;TZID=UTC:20250614T080000
DTEND;TZID=UTC:20250614T170000
DTSTAMP:20260423T045636
CREATED:20250213T110126Z
LAST-MODIFIED:20250626T085609Z
UID:1137-1749888000-1749920400@haighhall-golfclub.co.uk
SUMMARY:Jack Corrigan Round 4
DESCRIPTION:Winners \n\nI Dootson\nJ Davies\nN Ryan
URL:https://haighhall-golfclub.co.uk/competitions/jack-corrigan-round-4/
END:VEVENT
BEGIN:VEVENT
DTSTART;TZID=UTC:20250612T080000
DTEND;TZID=UTC:20250612T170000
DTSTAMP:20260423T045636
CREATED:20250213T113110Z
LAST-MODIFIED:20250213T113110Z
UID:1192-1749715200-1749747600@haighhall-golfclub.co.uk
SUMMARY:Stan Caldwell Qualifier
DESCRIPTION:
URL:https://haighhall-golfclub.co.uk/competitions/stan-caldwell-qualifier-3/
CATEGORIES:9 Hole Competition
END:VEVENT
BEGIN:VEVENT
DTSTART;TZID=UTC:20250611T080000
DTEND;TZID=UTC:20250611T170000
DTSTAMP:20260423T045636
CREATED:20250213T102111Z
LAST-MODIFIED:20250612T091719Z
UID:1082-1749628800-1749661200@haighhall-golfclub.co.uk
SUMMARY:Seniors June Medal
DESCRIPTION:Winner \n\nB Leahy\n\nDivisuion \n\nP Serventi
URL:https://haighhall-golfclub.co.uk/competitions/seniors-june-medal-2/
END:VEVENT
BEGIN:VEVENT
DTSTART;TZID=UTC:20250608T080000
DTEND;TZID=UTC:20250608T170000
DTSTAMP:20260423T045636
CREATED:20250213T100245Z
LAST-MODIFIED:20250612T091844Z
UID:1024-1749369600-1749402000@haighhall-golfclub.co.uk
SUMMARY:Captains Prize Day
DESCRIPTION:Winner \n\nD Hayes\n\nSecond \n\nC Williams\n\nThird \n\nI Dootson
URL:https://haighhall-golfclub.co.uk/competitions/captains-prize-day-2/
END:VEVENT
BEGIN:VEVENT
DTSTART;TZID=UTC:20250607T080000
DTEND;TZID=UTC:20250607T170000
DTSTAMP:20260423T045636
CREATED:20250213T110043Z
LAST-MODIFIED:20250612T091437Z
UID:1135-1749283200-1749315600@haighhall-golfclub.co.uk
SUMMARY:Saturday June Medal
DESCRIPTION:Winner \n\nD Moore\n\nDivision \n\nM Connor
URL:https://haighhall-golfclub.co.uk/competitions/saturday-june-medal/
END:VEVENT
BEGIN:VEVENT
DTSTART;TZID=UTC:20250605T080000
DTEND;TZID=UTC:20250605T170000
DTSTAMP:20260423T045636
CREATED:20250213T113010Z
LAST-MODIFIED:20250213T113010Z
UID:1190-1749110400-1749142800@haighhall-golfclub.co.uk
SUMMARY:Thursday Merit Round 3
DESCRIPTION:
URL:https://haighhall-golfclub.co.uk/competitions/thursday-merit-round-3/
CATEGORIES:9 Hole Competition
END:VEVENT
END:VCALENDAR