BEGIN:VCALENDAR
VERSION:2.0
PRODID:-//Haigh Hall Golf Club - ECPv6.15.20//NONSGML v1.0//EN
CALSCALE:GREGORIAN
METHOD:PUBLISH
X-WR-CALNAME:Haigh Hall Golf Club
X-ORIGINAL-URL:https://haighhall-golfclub.co.uk
X-WR-CALDESC:Events for Haigh Hall Golf Club
REFRESH-INTERVAL;VALUE=DURATION:PT1H
X-Robots-Tag:noindex
X-PUBLISHED-TTL:PT1H
BEGIN:VTIMEZONE
TZID:Europe/London
BEGIN:DAYLIGHT
TZOFFSETFROM:+0000
TZOFFSETTO:+0100
TZNAME:BST
DTSTART:20230326T010000
END:DAYLIGHT
BEGIN:STANDARD
TZOFFSETFROM:+0100
TZOFFSETTO:+0000
TZNAME:GMT
DTSTART:20231029T010000
END:STANDARD
BEGIN:DAYLIGHT
TZOFFSETFROM:+0000
TZOFFSETTO:+0100
TZNAME:BST
DTSTART:20240331T010000
END:DAYLIGHT
BEGIN:STANDARD
TZOFFSETFROM:+0100
TZOFFSETTO:+0000
TZNAME:GMT
DTSTART:20241027T010000
END:STANDARD
BEGIN:DAYLIGHT
TZOFFSETFROM:+0000
TZOFFSETTO:+0100
TZNAME:BST
DTSTART:20250330T010000
END:DAYLIGHT
BEGIN:STANDARD
TZOFFSETFROM:+0100
TZOFFSETTO:+0000
TZNAME:GMT
DTSTART:20251026T010000
END:STANDARD
END:VTIMEZONE
BEGIN:VEVENT
DTSTART;VALUE=DATE:20240707
DTEND;VALUE=DATE:20240708
DTSTAMP:20260422T221413
CREATED:20240405T171738Z
LAST-MODIFIED:20240823T103536Z
UID:638-1720310400-1720396799@haighhall-golfclub.co.uk
SUMMARY:Invitation Day
DESCRIPTION:Winners \n\nD Honor & S Herbert\n\nSecond \n\nJ Shepherd & A Southworth
URL:https://haighhall-golfclub.co.uk/competitions/invitation-day/
END:VEVENT
BEGIN:VEVENT
DTSTART;VALUE=DATE:20240706
DTEND;VALUE=DATE:20240707
DTSTAMP:20260422T221413
CREATED:20240405T172236Z
LAST-MODIFIED:20240823T091556Z
UID:693-1720224000-1720310399@haighhall-golfclub.co.uk
SUMMARY:Farrimond Shield
DESCRIPTION:Winner T Battersby \nDivision D Caton
URL:https://haighhall-golfclub.co.uk/competitions/farrimond-shield/
END:VEVENT
BEGIN:VEVENT
DTSTART;VALUE=DATE:20240704
DTEND;VALUE=DATE:20240705
DTSTAMP:20260422T221413
CREATED:20240405T172245Z
LAST-MODIFIED:20240405T173617Z
UID:723-1720051200-1720137599@haighhall-golfclub.co.uk
SUMMARY:Thursday Merit
DESCRIPTION:
URL:https://haighhall-golfclub.co.uk/competitions/thursday-merit-5/
CATEGORIES:9 Hole Competition
END:VEVENT
BEGIN:VEVENT
DTSTART;VALUE=DATE:20240703
DTEND;VALUE=DATE:20240704
DTSTAMP:20260422T221413
CREATED:20240405T171957Z
LAST-MODIFIED:20240823T082046Z
UID:659-1719964800-1720051199@haighhall-golfclub.co.uk
SUMMARY:Captains Cup
DESCRIPTION:Winner A Hodges \nDivision R Sinclair \nDivision D Eastham
URL:https://haighhall-golfclub.co.uk/competitions/captains-cup-2/
END:VEVENT
BEGIN:VEVENT
DTSTART;VALUE=DATE:20240630
DTEND;VALUE=DATE:20240701
DTSTAMP:20260422T221413
CREATED:20240405T171738Z
LAST-MODIFIED:20240823T103326Z
UID:637-1719705600-1719791999@haighhall-golfclub.co.uk
SUMMARY:JAL 50 Trophy
DESCRIPTION:Overall Winner \n\nS Davies\n\nDivisional Winners \n\nT Battersby\nA Hodges\nS Pennington
URL:https://haighhall-golfclub.co.uk/competitions/jal-50-trophy/
END:VEVENT
BEGIN:VEVENT
DTSTART;VALUE=DATE:20240629
DTEND;VALUE=DATE:20240630
DTSTAMP:20260422T221413
CREATED:20240405T172236Z
LAST-MODIFIED:20240823T091338Z
UID:692-1719619200-1719705599@haighhall-golfclub.co.uk
SUMMARY:Jack Corrigan Merit
DESCRIPTION:Winner D Honor \nSecond M Connor
URL:https://haighhall-golfclub.co.uk/competitions/jack-corrigan-merit-5/
END:VEVENT
BEGIN:VEVENT
DTSTART;VALUE=DATE:20240627
DTEND;VALUE=DATE:20240628
DTSTAMP:20260422T221413
CREATED:20240405T172245Z
LAST-MODIFIED:20240405T173726Z
UID:722-1719446400-1719532799@haighhall-golfclub.co.uk
SUMMARY:Stan Caldwell
DESCRIPTION:
URL:https://haighhall-golfclub.co.uk/competitions/stan-caldwell-4/
CATEGORIES:9 Hole Competition
END:VEVENT
BEGIN:VEVENT
DTSTART;VALUE=DATE:20240626
DTEND;VALUE=DATE:20240627
DTSTAMP:20260422T221413
CREATED:20240405T172027Z
LAST-MODIFIED:20240405T172027Z
UID:666-1719360000-1719446399@haighhall-golfclub.co.uk
SUMMARY:3 Club and Putter
DESCRIPTION:
URL:https://haighhall-golfclub.co.uk/competitions/3-club-and-putter/
END:VEVENT
BEGIN:VEVENT
DTSTART;VALUE=DATE:20240626
DTEND;VALUE=DATE:20240627
DTSTAMP:20260422T221413
CREATED:20240405T172012Z
LAST-MODIFIED:20240823T084041Z
UID:660-1719360000-1719446399@haighhall-golfclub.co.uk
SUMMARY:Three Clubs and a Putter
DESCRIPTION:Winner D Paterson \nDivision D Middleton \nDivision B McKee
URL:https://haighhall-golfclub.co.uk/competitions/seniors-merit-3/
END:VEVENT
BEGIN:VEVENT
DTSTART;VALUE=DATE:20240623
DTEND;VALUE=DATE:20240624
DTSTAMP:20260422T221413
CREATED:20240405T171738Z
LAST-MODIFIED:20240823T103120Z
UID:636-1719100800-1719187199@haighhall-golfclub.co.uk
SUMMARY:Members Trophy
DESCRIPTION:Overall Winners \n\nG Honor\n\nDivisional Winners \n\nS Davies\nD Owen\nL Gray
URL:https://haighhall-golfclub.co.uk/competitions/members-trophy/
END:VEVENT
BEGIN:VEVENT
DTSTART;VALUE=DATE:20240622
DTEND;VALUE=DATE:20240623
DTSTAMP:20260422T221413
CREATED:20240405T172235Z
LAST-MODIFIED:20240823T091238Z
UID:691-1719014400-1719100799@haighhall-golfclub.co.uk
SUMMARY:David Keates Memorial
DESCRIPTION:Winners M Harrison\, D Moore and D Honor
URL:https://haighhall-golfclub.co.uk/competitions/david-keates-memorial/
END:VEVENT
BEGIN:VEVENT
DTSTART;VALUE=DATE:20240621
DTEND;VALUE=DATE:20240622
DTSTAMP:20260422T221413
CREATED:20240405T172249Z
LAST-MODIFIED:20240405T174630Z
UID:739-1718928000-1719014399@haighhall-golfclub.co.uk
SUMMARY:Captains Trip To Westhoughton
DESCRIPTION:
URL:https://haighhall-golfclub.co.uk/competitions/captains-trip-to-westhoughton/
LOCATION:Westhoughton Golf Club\, Westhoughton\, BL5 2BR\, United Kingdom
END:VEVENT
BEGIN:VEVENT
DTSTART;VALUE=DATE:20240620
DTEND;VALUE=DATE:20240621
DTSTAMP:20260422T221413
CREATED:20240405T172245Z
LAST-MODIFIED:20240405T173600Z
UID:721-1718841600-1718927999@haighhall-golfclub.co.uk
SUMMARY:Alan Hamblett Award
DESCRIPTION:
URL:https://haighhall-golfclub.co.uk/competitions/alan-hamblett-award-3/
CATEGORIES:9 Hole Competition
END:VEVENT
BEGIN:VEVENT
DTSTART;VALUE=DATE:20240619
DTEND;VALUE=DATE:20240620
DTSTAMP:20260422T221413
CREATED:20240405T172127Z
LAST-MODIFIED:20240823T081632Z
UID:678-1718755200-1718841599@haighhall-golfclub.co.uk
SUMMARY:Seniors Masters
DESCRIPTION:Winner J Leigh \nDivision R Sinclair \nDivision B McDonnell
URL:https://haighhall-golfclub.co.uk/competitions/seniors-masters/
END:VEVENT
BEGIN:VEVENT
DTSTART;VALUE=DATE:20240616
DTEND;VALUE=DATE:20240617
DTSTAMP:20260422T221413
CREATED:20240405T171738Z
LAST-MODIFIED:20240823T094930Z
UID:635-1718496000-1718582399@haighhall-golfclub.co.uk
SUMMARY:Masters
DESCRIPTION:Overall Winner \n\nM Sidlow
URL:https://haighhall-golfclub.co.uk/competitions/masters/
CATEGORIES:Ian Lee Merit
END:VEVENT
BEGIN:VEVENT
DTSTART;VALUE=DATE:20240615
DTEND;VALUE=DATE:20240616
DTSTAMP:20260422T221413
CREATED:20240405T172235Z
LAST-MODIFIED:20240823T091132Z
UID:690-1718409600-1718495999@haighhall-golfclub.co.uk
SUMMARY:Jack Corrigan Merit
DESCRIPTION:Winner D Moore \nSecond S Davies
URL:https://haighhall-golfclub.co.uk/competitions/jack-corrigan-merit-4/
END:VEVENT
BEGIN:VEVENT
DTSTART;VALUE=DATE:20240613
DTEND;VALUE=DATE:20240614
DTSTAMP:20260422T221413
CREATED:20240405T172244Z
LAST-MODIFIED:20240405T173726Z
UID:720-1718236800-1718323199@haighhall-golfclub.co.uk
SUMMARY:Stan Caldwell
DESCRIPTION:
URL:https://haighhall-golfclub.co.uk/competitions/stan-caldwell-3/
CATEGORIES:9 Hole Competition
END:VEVENT
BEGIN:VEVENT
DTSTART;VALUE=DATE:20240612
DTEND;VALUE=DATE:20240613
DTSTAMP:20260422T221413
CREATED:20240405T172012Z
LAST-MODIFIED:20240823T081431Z
UID:663-1718150400-1718236799@haighhall-golfclub.co.uk
SUMMARY:Seniors June Medal
DESCRIPTION:Winner P Jennings \nDivision P Serventi
URL:https://haighhall-golfclub.co.uk/competitions/seniors-june-medal/
END:VEVENT
BEGIN:VEVENT
DTSTART;VALUE=DATE:20240609
DTEND;VALUE=DATE:20240610
DTSTAMP:20260422T221413
CREATED:20240405T171737Z
LAST-MODIFIED:20240823T094837Z
UID:634-1717891200-1717977599@haighhall-golfclub.co.uk
SUMMARY:Captains Prize Day
DESCRIPTION:Winner M Sidlow \nSecond D Parsonage \nThird L Filbin
URL:https://haighhall-golfclub.co.uk/competitions/captains-prize-day/
END:VEVENT
BEGIN:VEVENT
DTSTART;VALUE=DATE:20240608
DTEND;VALUE=DATE:20240609
DTSTAMP:20260422T221413
CREATED:20240405T172157Z
LAST-MODIFIED:20240823T091026Z
UID:689-1717804800-1717891199@haighhall-golfclub.co.uk
SUMMARY:June Medal
DESCRIPTION:Winner A Ball \nDivision N Unsworth
URL:https://haighhall-golfclub.co.uk/competitions/june-medal/
END:VEVENT
BEGIN:VEVENT
DTSTART;VALUE=DATE:20240606
DTEND;VALUE=DATE:20240607
DTSTAMP:20260422T221413
CREATED:20240405T172243Z
LAST-MODIFIED:20240405T173617Z
UID:714-1717632000-1717718399@haighhall-golfclub.co.uk
SUMMARY:Thursday Merit
DESCRIPTION:
URL:https://haighhall-golfclub.co.uk/competitions/thursday-merit-3/
CATEGORIES:9 Hole Competition
END:VEVENT
BEGIN:VEVENT
DTSTART;VALUE=DATE:20240605
DTEND;VALUE=DATE:20240606
DTSTAMP:20260422T221413
CREATED:20240405T172013Z
LAST-MODIFIED:20240823T081312Z
UID:664-1717545600-1717631999@haighhall-golfclub.co.uk
SUMMARY:Doris Eyres Trophy
DESCRIPTION:Winner P Perkins \nDivision C Griffiths \nDivision N Guy
URL:https://haighhall-golfclub.co.uk/competitions/doris-eyres-trophy/
END:VEVENT
BEGIN:VEVENT
DTSTART;VALUE=DATE:20240602
DTEND;VALUE=DATE:20240603
DTSTAMP:20260422T221413
CREATED:20240405T171736Z
LAST-MODIFIED:20240823T094708Z
UID:633-1717286400-1717372799@haighhall-golfclub.co.uk
SUMMARY:Jack Ashton
DESCRIPTION:Overall Winner \n\nD Moore\n\nDivisional Winners \n\nM Harrison\nN Ryan\nS Pennington
URL:https://haighhall-golfclub.co.uk/competitions/jack-ashton/
CATEGORIES:Ian Lee Merit
END:VEVENT
BEGIN:VEVENT
DTSTART;VALUE=DATE:20240601
DTEND;VALUE=DATE:20240602
DTSTAMP:20260422T221413
CREATED:20240405T172157Z
LAST-MODIFIED:20240823T090924Z
UID:688-1717200000-1717286399@haighhall-golfclub.co.uk
SUMMARY:Jack Corrigan Merit
DESCRIPTION:Winner D Moore \nSecond S Davies
URL:https://haighhall-golfclub.co.uk/competitions/jack-corrigan-merit-3/
END:VEVENT
BEGIN:VEVENT
DTSTART;VALUE=DATE:20240530
DTEND;VALUE=DATE:20240531
DTSTAMP:20260422T221413
CREATED:20240405T172243Z
LAST-MODIFIED:20240405T173726Z
UID:713-1717027200-1717113599@haighhall-golfclub.co.uk
SUMMARY:Stan Caldwell
DESCRIPTION:
URL:https://haighhall-golfclub.co.uk/competitions/stan-caldwell-2/
CATEGORIES:9 Hole Competition
END:VEVENT
BEGIN:VEVENT
DTSTART;VALUE=DATE:20240529
DTEND;VALUE=DATE:20240530
DTSTAMP:20260422T221413
CREATED:20240405T172012Z
LAST-MODIFIED:20240405T172012Z
UID:662-1716940800-1717027199@haighhall-golfclub.co.uk
SUMMARY:Seniors Merit Round 4
DESCRIPTION:
URL:https://haighhall-golfclub.co.uk/competitions/seniors-merit-round-4/
END:VEVENT
BEGIN:VEVENT
DTSTART;VALUE=DATE:20240529
DTEND;VALUE=DATE:20240530
DTSTAMP:20260422T221413
CREATED:20240405T171957Z
LAST-MODIFIED:20240823T081136Z
UID:658-1716940800-1717027199@haighhall-golfclub.co.uk
SUMMARY:Seniors May Medal
DESCRIPTION:Winner P Perkins \nDivision D Derbyshire
URL:https://haighhall-golfclub.co.uk/competitions/seniors-may-medal/
END:VEVENT
BEGIN:VEVENT
DTSTART;VALUE=DATE:20240526
DTEND;VALUE=DATE:20240527
DTSTAMP:20260422T221413
CREATED:20240405T171734Z
LAST-MODIFIED:20240823T094520Z
UID:626-1716681600-1716767999@haighhall-golfclub.co.uk
SUMMARY:Presidents Cup
DESCRIPTION:Overall Winner \n\nT Hepworth\n\nDivisional Winners \n\nA Ball\nP Perkins\nM Dyke
URL:https://haighhall-golfclub.co.uk/competitions/presidents-cup/
END:VEVENT
BEGIN:VEVENT
DTSTART;VALUE=DATE:20240525
DTEND;VALUE=DATE:20240526
DTSTAMP:20260422T221413
CREATED:20240405T172157Z
LAST-MODIFIED:20240823T090810Z
UID:687-1716595200-1716681599@haighhall-golfclub.co.uk
SUMMARY:May Medal
DESCRIPTION:Winner M Gillard \nDivision N Guy
URL:https://haighhall-golfclub.co.uk/competitions/may-medal/
END:VEVENT
BEGIN:VEVENT
DTSTART;VALUE=DATE:20240523
DTEND;VALUE=DATE:20240524
DTSTAMP:20260422T221413
CREATED:20240405T172243Z
LAST-MODIFIED:20240405T173600Z
UID:712-1716422400-1716508799@haighhall-golfclub.co.uk
SUMMARY:Alan Hamblett Award
DESCRIPTION:
URL:https://haighhall-golfclub.co.uk/competitions/alan-hamblett-award-2/
CATEGORIES:9 Hole Competition
END:VEVENT
END:VCALENDAR