BEGIN:VCALENDAR
VERSION:2.0
PRODID:-//Haigh Hall Golf Club - ECPv6.15.20//NONSGML v1.0//EN
CALSCALE:GREGORIAN
METHOD:PUBLISH
X-WR-CALNAME:Haigh Hall Golf Club
X-ORIGINAL-URL:https://haighhall-golfclub.co.uk
X-WR-CALDESC:Events for Haigh Hall Golf Club
REFRESH-INTERVAL;VALUE=DURATION:PT1H
X-Robots-Tag:noindex
X-PUBLISHED-TTL:PT1H
BEGIN:VTIMEZONE
TZID:UTC
BEGIN:STANDARD
TZOFFSETFROM:+0000
TZOFFSETTO:+0000
TZNAME:UTC
DTSTART:20250101T000000
END:STANDARD
END:VTIMEZONE
BEGIN:VEVENT
DTSTART;TZID=UTC:20260729T080000
DTEND;TZID=UTC:20260729T170000
DTSTAMP:20260422T221333
CREATED:20260220T103101Z
LAST-MODIFIED:20260220T103101Z
UID:1513-1785312000-1785344400@haighhall-golfclub.co.uk
SUMMARY:Sen July Medal
DESCRIPTION:
URL:https://haighhall-golfclub.co.uk/competitions/sen-july-medal/
END:VEVENT
BEGIN:VEVENT
DTSTART;TZID=UTC:20260730T080000
DTEND;TZID=UTC:20260730T170000
DTSTAMP:20260422T221333
CREATED:20260220T100919Z
LAST-MODIFIED:20260220T100919Z
UID:1461-1785398400-1785430800@haighhall-golfclub.co.uk
SUMMARY:Stan Caldwell Award
DESCRIPTION:
URL:https://haighhall-golfclub.co.uk/competitions/stan-caldwell-award-4/
END:VEVENT
BEGIN:VEVENT
DTSTART;TZID=UTC:20260801T080000
DTEND;TZID=UTC:20260801T170000
DTSTAMP:20260422T221333
CREATED:20260220T092115Z
LAST-MODIFIED:20260220T092115Z
UID:1365-1785571200-1785603600@haighhall-golfclub.co.uk
SUMMARY:Merit Rnd 8 Sat
DESCRIPTION:
URL:https://haighhall-golfclub.co.uk/competitions/merit-rnd-8-sat/
END:VEVENT
BEGIN:VEVENT
DTSTART;TZID=UTC:20260802T080000
DTEND;TZID=UTC:20260802T170000
DTSTAMP:20260422T221333
CREATED:20260220T094656Z
LAST-MODIFIED:20260220T094656Z
UID:1423-1785657600-1785690000@haighhall-golfclub.co.uk
SUMMARY:Haigh Hall Cup
DESCRIPTION:
URL:https://haighhall-golfclub.co.uk/competitions/haigh-hall-cup-2/
END:VEVENT
BEGIN:VEVENT
DTSTART;TZID=UTC:20260805T080000
DTEND;TZID=UTC:20260805T170000
DTSTAMP:20260422T221333
CREATED:20260220T102055Z
LAST-MODIFIED:20260220T102055Z
UID:1485-1785916800-1785949200@haighhall-golfclub.co.uk
SUMMARY:Sen Merit Rnd 7
DESCRIPTION:
URL:https://haighhall-golfclub.co.uk/competitions/sen-merit-rnd-7/
END:VEVENT
BEGIN:VEVENT
DTSTART;TZID=UTC:20260806T080000
DTEND;TZID=UTC:20260806T170000
DTSTAMP:20260422T221333
CREATED:20260220T101008Z
LAST-MODIFIED:20260220T101008Z
UID:1463-1786003200-1786035600@haighhall-golfclub.co.uk
SUMMARY:Thursday Merit Rnd 6
DESCRIPTION:
URL:https://haighhall-golfclub.co.uk/competitions/thursday-merit-rnd-6/
END:VEVENT
BEGIN:VEVENT
DTSTART;TZID=UTC:20260808T080000
DTEND;TZID=UTC:20260808T170000
DTSTAMP:20260422T221333
CREATED:20260220T092151Z
LAST-MODIFIED:20260220T092151Z
UID:1367-1786176000-1786208400@haighhall-golfclub.co.uk
SUMMARY:Rose Bowl
DESCRIPTION:
URL:https://haighhall-golfclub.co.uk/competitions/rose-bowl-5/
END:VEVENT
BEGIN:VEVENT
DTSTART;TZID=UTC:20260809T080000
DTEND;TZID=UTC:20260809T170000
DTSTAMP:20260422T221333
CREATED:20260220T094737Z
LAST-MODIFIED:20260220T094737Z
UID:1425-1786262400-1786294800@haighhall-golfclub.co.uk
SUMMARY:Vice Captains Trophy
DESCRIPTION:
URL:https://haighhall-golfclub.co.uk/competitions/vice-captains-trophy-3/
END:VEVENT
BEGIN:VEVENT
DTSTART;TZID=UTC:20260812T080000
DTEND;TZID=UTC:20260812T170000
DTSTAMP:20260422T221333
CREATED:20260220T103157Z
LAST-MODIFIED:20260220T103157Z
UID:1515-1786521600-1786554000@haighhall-golfclub.co.uk
SUMMARY:Jack Frost Rose Bowl
DESCRIPTION:
URL:https://haighhall-golfclub.co.uk/competitions/jack-frost-rose-bowl-3/
END:VEVENT
BEGIN:VEVENT
DTSTART;TZID=UTC:20260813T080000
DTEND;TZID=UTC:20260813T170000
DTSTAMP:20260422T221333
CREATED:20260220T101106Z
LAST-MODIFIED:20260220T101106Z
UID:1465-1786608000-1786640400@haighhall-golfclub.co.uk
SUMMARY:Stan Caldwell Award
DESCRIPTION:
URL:https://haighhall-golfclub.co.uk/competitions/stan-caldwell-award-5/
END:VEVENT
BEGIN:VEVENT
DTSTART;TZID=UTC:20260815T080000
DTEND;TZID=UTC:20260815T170000
DTSTAMP:20260422T221334
CREATED:20260220T092242Z
LAST-MODIFIED:20260220T092242Z
UID:1369-1786780800-1786813200@haighhall-golfclub.co.uk
SUMMARY:Merit Rnd 9 Sat
DESCRIPTION:
URL:https://haighhall-golfclub.co.uk/competitions/merit-rnd-9-sat/
END:VEVENT
BEGIN:VEVENT
DTSTART;TZID=UTC:20260816T080000
DTEND;TZID=UTC:20260816T170000
DTSTAMP:20260422T221334
CREATED:20260220T094818Z
LAST-MODIFIED:20260220T094818Z
UID:1427-1786867200-1786899600@haighhall-golfclub.co.uk
SUMMARY:Rose Bowl
DESCRIPTION:
URL:https://haighhall-golfclub.co.uk/competitions/rose-bowl-6/
END:VEVENT
BEGIN:VEVENT
DTSTART;TZID=UTC:20260819T080000
DTEND;TZID=UTC:20260819T170000
DTSTAMP:20260422T221334
CREATED:20260220T103234Z
LAST-MODIFIED:20260220T103234Z
UID:1517-1787126400-1787158800@haighhall-golfclub.co.uk
SUMMARY:Steve Eyres Trophy
DESCRIPTION:
URL:https://haighhall-golfclub.co.uk/competitions/steve-eyres-trophy-3/
END:VEVENT
BEGIN:VEVENT
DTSTART;TZID=UTC:20260820T080000
DTEND;TZID=UTC:20260820T170000
DTSTAMP:20260422T221334
CREATED:20260220T101153Z
LAST-MODIFIED:20260220T101153Z
UID:1467-1787212800-1787245200@haighhall-golfclub.co.uk
SUMMARY:Alan Hamblett Award Rnd 5
DESCRIPTION:
URL:https://haighhall-golfclub.co.uk/competitions/alan-hamblett-award-rnd-5/
END:VEVENT
BEGIN:VEVENT
DTSTART;TZID=UTC:20260822T080000
DTEND;TZID=UTC:20260822T170000
DTSTAMP:20260422T221334
CREATED:20260220T092329Z
LAST-MODIFIED:20260220T092329Z
UID:1371-1787385600-1787418000@haighhall-golfclub.co.uk
SUMMARY:August Medal
DESCRIPTION:
URL:https://haighhall-golfclub.co.uk/competitions/august-medal-2/
END:VEVENT
BEGIN:VEVENT
DTSTART;TZID=UTC:20260823T080000
DTEND;TZID=UTC:20260823T170000
DTSTAMP:20260422T221334
CREATED:20260220T094903Z
LAST-MODIFIED:20260220T094903Z
UID:1429-1787472000-1787504400@haighhall-golfclub.co.uk
SUMMARY:Thomas Chute Bogey
DESCRIPTION:
URL:https://haighhall-golfclub.co.uk/competitions/thomas-chute-bogey-3/
END:VEVENT
BEGIN:VEVENT
DTSTART;TZID=UTC:20260826T080000
DTEND;TZID=UTC:20260826T170000
DTSTAMP:20260422T221334
CREATED:20260220T103318Z
LAST-MODIFIED:20260220T103318Z
UID:1519-1787731200-1787763600@haighhall-golfclub.co.uk
SUMMARY:Sen August Medal
DESCRIPTION:
URL:https://haighhall-golfclub.co.uk/competitions/sen-august-medal/
END:VEVENT
BEGIN:VEVENT
DTSTART;TZID=UTC:20260827T080000
DTEND;TZID=UTC:20260827T170000
DTSTAMP:20260422T221334
CREATED:20260220T101238Z
LAST-MODIFIED:20260220T101238Z
UID:1469-1787817600-1787850000@haighhall-golfclub.co.uk
SUMMARY:Stan Caldwell Final
DESCRIPTION:
URL:https://haighhall-golfclub.co.uk/competitions/stan-caldwell-final-3/
END:VEVENT
BEGIN:VEVENT
DTSTART;TZID=UTC:20260829T080000
DTEND;TZID=UTC:20260829T170000
DTSTAMP:20260422T221334
CREATED:20260220T092416Z
LAST-MODIFIED:20260220T092416Z
UID:1373-1787990400-1788022800@haighhall-golfclub.co.uk
SUMMARY:Merit Rnd 10 Sat
DESCRIPTION:
URL:https://haighhall-golfclub.co.uk/competitions/merit-rnd-10-sat/
END:VEVENT
BEGIN:VEVENT
DTSTART;TZID=UTC:20260830T080000
DTEND;TZID=UTC:20260830T170000
DTSTAMP:20260422T221334
CREATED:20260220T094943Z
LAST-MODIFIED:20260220T094943Z
UID:1431-1788076800-1788109200@haighhall-golfclub.co.uk
SUMMARY:Jack Frost Trophy
DESCRIPTION:
URL:https://haighhall-golfclub.co.uk/competitions/jack-frost-trophy/
END:VEVENT
BEGIN:VEVENT
DTSTART;TZID=UTC:20260902T080000
DTEND;TZID=UTC:20260902T170000
DTSTAMP:20260422T221334
CREATED:20260220T102139Z
LAST-MODIFIED:20260220T102139Z
UID:1487-1788336000-1788368400@haighhall-golfclub.co.uk
SUMMARY:Sen Merit Rnd 8
DESCRIPTION:
URL:https://haighhall-golfclub.co.uk/competitions/sen-merit-rnd-8/
END:VEVENT
BEGIN:VEVENT
DTSTART;TZID=UTC:20260903T080000
DTEND;TZID=UTC:20260903T170000
DTSTAMP:20260422T221334
CREATED:20260220T101326Z
LAST-MODIFIED:20260220T101326Z
UID:1471-1788422400-1788454800@haighhall-golfclub.co.uk
SUMMARY:Final Thursday Merit
DESCRIPTION:
URL:https://haighhall-golfclub.co.uk/competitions/final-thursday-merit/
END:VEVENT
BEGIN:VEVENT
DTSTART;TZID=UTC:20260905T080000
DTEND;TZID=UTC:20260905T170000
DTSTAMP:20260422T221334
CREATED:20260220T092503Z
LAST-MODIFIED:20260220T092503Z
UID:1375-1788595200-1788627600@haighhall-golfclub.co.uk
SUMMARY:Pat and Frank Dawber Trophy
DESCRIPTION:
URL:https://haighhall-golfclub.co.uk/competitions/pat-and-frank-dawber-trophy-3/
END:VEVENT
BEGIN:VEVENT
DTSTART;TZID=UTC:20260909T080000
DTEND;TZID=UTC:20260909T170000
DTSTAMP:20260422T221334
CREATED:20260220T103359Z
LAST-MODIFIED:20260220T103359Z
UID:1521-1788940800-1788973200@haighhall-golfclub.co.uk
SUMMARY:William Harrison Trophy
DESCRIPTION:
URL:https://haighhall-golfclub.co.uk/competitions/william-harrison-trophy-2/
END:VEVENT
BEGIN:VEVENT
DTSTART;TZID=UTC:20260912T080000
DTEND;TZID=UTC:20260912T170000
DTSTAMP:20260422T221334
CREATED:20260220T092552Z
LAST-MODIFIED:20260220T092552Z
UID:1377-1789200000-1789232400@haighhall-golfclub.co.uk
SUMMARY:David Jones
DESCRIPTION:
URL:https://haighhall-golfclub.co.uk/competitions/david-jones-2/
END:VEVENT
BEGIN:VEVENT
DTSTART;TZID=UTC:20260916T080000
DTEND;TZID=UTC:20260916T170000
DTSTAMP:20260422T221334
CREATED:20260220T103435Z
LAST-MODIFIED:20260220T103435Z
UID:1523-1789545600-1789578000@haighhall-golfclub.co.uk
SUMMARY:Sen Closing Medal
DESCRIPTION:
URL:https://haighhall-golfclub.co.uk/competitions/sen-closing-medal/
END:VEVENT
BEGIN:VEVENT
DTSTART;TZID=UTC:20260919T080000
DTEND;TZID=UTC:20260919T170000
DTSTAMP:20260422T221334
CREATED:20260220T092633Z
LAST-MODIFIED:20260220T092633Z
UID:1379-1789804800-1789837200@haighhall-golfclub.co.uk
SUMMARY:Merit Rnd 11 Sat
DESCRIPTION:
URL:https://haighhall-golfclub.co.uk/competitions/merit-rnd-11-sat/
END:VEVENT
BEGIN:VEVENT
DTSTART;TZID=UTC:20260923T080000
DTEND;TZID=UTC:20260923T170000
DTSTAMP:20260422T221334
CREATED:20260220T102219Z
LAST-MODIFIED:20260220T102219Z
UID:1489-1790150400-1790182800@haighhall-golfclub.co.uk
SUMMARY:Sen Merit Final Rnd
DESCRIPTION:
URL:https://haighhall-golfclub.co.uk/competitions/sen-merit-final-rnd/
END:VEVENT
BEGIN:VEVENT
DTSTART;TZID=UTC:20260926T080000
DTEND;TZID=UTC:20260926T170000
DTSTAMP:20260422T221334
CREATED:20260220T092711Z
LAST-MODIFIED:20260220T092711Z
UID:1381-1790409600-1790442000@haighhall-golfclub.co.uk
SUMMARY:September Medal
DESCRIPTION:
URL:https://haighhall-golfclub.co.uk/competitions/september-medal-2/
END:VEVENT
BEGIN:VEVENT
DTSTART;TZID=UTC:20261003T080000
DTEND;TZID=UTC:20261003T170000
DTSTAMP:20260422T221334
CREATED:20260220T092746Z
LAST-MODIFIED:20260220T092746Z
UID:1383-1791014400-1791046800@haighhall-golfclub.co.uk
SUMMARY:Final Merit Sat
DESCRIPTION:
URL:https://haighhall-golfclub.co.uk/competitions/final-merit-sat/
END:VEVENT
END:VCALENDAR