BEGIN:VCALENDAR
VERSION:2.0
PRODID:-//Haigh Hall Golf Club - ECPv6.15.20//NONSGML v1.0//EN
CALSCALE:GREGORIAN
METHOD:PUBLISH
X-WR-CALNAME:Haigh Hall Golf Club
X-ORIGINAL-URL:https://haighhall-golfclub.co.uk
X-WR-CALDESC:Events for Haigh Hall Golf Club
REFRESH-INTERVAL;VALUE=DURATION:PT1H
X-Robots-Tag:noindex
X-PUBLISHED-TTL:PT1H
BEGIN:VTIMEZONE
TZID:UTC
BEGIN:STANDARD
TZOFFSETFROM:+0000
TZOFFSETTO:+0000
TZNAME:UTC
DTSTART:20240101T000000
END:STANDARD
END:VTIMEZONE
BEGIN:VEVENT
DTSTART;TZID=UTC:20260401T080000
DTEND;TZID=UTC:20260401T170000
DTSTAMP:20260423T031910
CREATED:20260220T101730Z
LAST-MODIFIED:20260220T101730Z
UID:1473-1775030400-1775062800@haighhall-golfclub.co.uk
SUMMARY:Sen Merit Rnd 1
DESCRIPTION:
URL:https://haighhall-golfclub.co.uk/competitions/sen-merit-rnd-1/
END:VEVENT
BEGIN:VEVENT
DTSTART;TZID=UTC:20260329T080000
DTEND;TZID=UTC:20260329T170000
DTSTAMP:20260423T031910
CREATED:20260220T093527Z
LAST-MODIFIED:20260310T102817Z
UID:1387-1774771200-1774803600@haighhall-golfclub.co.uk
SUMMARY:Out Going Captains Final Competition
DESCRIPTION:
URL:https://haighhall-golfclub.co.uk/competitions/out-going-captains-final-competition-2/
CATEGORIES:White Course
END:VEVENT
BEGIN:VEVENT
DTSTART;TZID=UTC:20251019T080000
DTEND;TZID=UTC:20251019T170000
DTSTAMP:20260423T031910
CREATED:20250213T101402Z
LAST-MODIFIED:20250213T101402Z
UID:1060-1760860800-1760893200@haighhall-golfclub.co.uk
SUMMARY:Blind Pairs
DESCRIPTION:
URL:https://haighhall-golfclub.co.uk/competitions/blind-pairs-2/
END:VEVENT
BEGIN:VEVENT
DTSTART;TZID=UTC:20251012T080000
DTEND;TZID=UTC:20251012T170000
DTSTAMP:20260423T031910
CREATED:20250213T101322Z
LAST-MODIFIED:20250213T101322Z
UID:1058-1760256000-1760288400@haighhall-golfclub.co.uk
SUMMARY:Yellow Ball
DESCRIPTION:
URL:https://haighhall-golfclub.co.uk/competitions/yellow-ball-2/
END:VEVENT
BEGIN:VEVENT
DTSTART;TZID=UTC:20251011T080000
DTEND;TZID=UTC:20251011T170000
DTSTAMP:20260423T031910
CREATED:20250213T111520Z
LAST-MODIFIED:20250213T111520Z
UID:1173-1760169600-1760202000@haighhall-golfclub.co.uk
SUMMARY:Saturday October Medal
DESCRIPTION:
URL:https://haighhall-golfclub.co.uk/competitions/saturday-october-medal/
END:VEVENT
BEGIN:VEVENT
DTSTART;TZID=UTC:20251005T080000
DTEND;TZID=UTC:20251005T170000
DTSTAMP:20260423T031910
CREATED:20250213T101250Z
LAST-MODIFIED:20250213T101250Z
UID:1056-1759651200-1759683600@haighhall-golfclub.co.uk
SUMMARY:Haigh Rumble
DESCRIPTION:
URL:https://haighhall-golfclub.co.uk/competitions/haigh-rumble-2/
END:VEVENT
BEGIN:VEVENT
DTSTART;TZID=UTC:20251004T080000
DTEND;TZID=UTC:20251004T170000
DTSTAMP:20260423T031910
CREATED:20250213T111439Z
LAST-MODIFIED:20250213T111439Z
UID:1171-1759564800-1759597200@haighhall-golfclub.co.uk
SUMMARY:Final Round of Jack Corrigan Trophy
DESCRIPTION:
URL:https://haighhall-golfclub.co.uk/competitions/final-round-of-jack-corrigan-trophy/
END:VEVENT
BEGIN:VEVENT
DTSTART;TZID=UTC:20250928T080000
DTEND;TZID=UTC:20250928T170000
DTSTAMP:20260423T031910
CREATED:20250213T101210Z
LAST-MODIFIED:20250213T101210Z
UID:1054-1759046400-1759078800@haighhall-golfclub.co.uk
SUMMARY:Two Left Feet Trophy Round 2
DESCRIPTION:
URL:https://haighhall-golfclub.co.uk/competitions/two-left-feet-trophy-round-2-2/
END:VEVENT
BEGIN:VEVENT
DTSTART;TZID=UTC:20250927T080000
DTEND;TZID=UTC:20250927T170000
DTSTAMP:20260423T031910
CREATED:20250213T111349Z
LAST-MODIFIED:20250213T111349Z
UID:1169-1758960000-1758992400@haighhall-golfclub.co.uk
SUMMARY:Saturday September Medal
DESCRIPTION:
URL:https://haighhall-golfclub.co.uk/competitions/saturday-september-medal/
END:VEVENT
BEGIN:VEVENT
DTSTART;TZID=UTC:20250924T080000
DTEND;TZID=UTC:20250924T170000
DTSTAMP:20260423T031910
CREATED:20250213T103704Z
LAST-MODIFIED:20250213T103704Z
UID:1112-1758700800-1758733200@haighhall-golfclub.co.uk
SUMMARY:Seniors Merit Final Round
DESCRIPTION:
URL:https://haighhall-golfclub.co.uk/competitions/seniors-merit-final-round/
END:VEVENT
BEGIN:VEVENT
DTSTART;TZID=UTC:20250921T080000
DTEND;TZID=UTC:20250921T170000
DTSTAMP:20260423T031910
CREATED:20250213T101119Z
LAST-MODIFIED:20250213T101119Z
UID:1052-1758441600-1758474000@haighhall-golfclub.co.uk
SUMMARY:Ed Smith Trophy
DESCRIPTION:
URL:https://haighhall-golfclub.co.uk/competitions/ed-smith-trophy-2/
END:VEVENT
BEGIN:VEVENT
DTSTART;TZID=UTC:20250920T080000
DTEND;TZID=UTC:20250920T170000
DTSTAMP:20260423T031910
CREATED:20250213T111303Z
LAST-MODIFIED:20250213T111303Z
UID:1167-1758355200-1758387600@haighhall-golfclub.co.uk
SUMMARY:Jack Corrigan Round 9
DESCRIPTION:
URL:https://haighhall-golfclub.co.uk/competitions/jack-corrigan-round-9/
END:VEVENT
BEGIN:VEVENT
DTSTART;TZID=UTC:20250917T080000
DTEND;TZID=UTC:20250917T170000
DTSTAMP:20260423T031910
CREATED:20250213T103627Z
LAST-MODIFIED:20250213T103851Z
UID:1110-1758096000-1758128400@haighhall-golfclub.co.uk
SUMMARY:Seniors Closing Medal
DESCRIPTION:
URL:https://haighhall-golfclub.co.uk/competitions/seniors-closing-meadl/
END:VEVENT
BEGIN:VEVENT
DTSTART;TZID=UTC:20250914T080000
DTEND;TZID=UTC:20250914T170000
DTSTAMP:20260423T031910
CREATED:20250213T101043Z
LAST-MODIFIED:20250213T101043Z
UID:1050-1757836800-1757869200@haighhall-golfclub.co.uk
SUMMARY:John Hunt Trophy
DESCRIPTION:
URL:https://haighhall-golfclub.co.uk/competitions/john-hunt-trophy-2/
END:VEVENT
BEGIN:VEVENT
DTSTART;TZID=UTC:20250913T080000
DTEND;TZID=UTC:20250913T170000
DTSTAMP:20260423T031910
CREATED:20250213T111202Z
LAST-MODIFIED:20250213T111202Z
UID:1165-1757750400-1757782800@haighhall-golfclub.co.uk
SUMMARY:David Jones Trophy
DESCRIPTION:
URL:https://haighhall-golfclub.co.uk/competitions/david-jones-trophy/
END:VEVENT
BEGIN:VEVENT
DTSTART;TZID=UTC:20250910T080000
DTEND;TZID=UTC:20250910T170000
DTSTAMP:20260423T031910
CREATED:20250213T103543Z
LAST-MODIFIED:20250213T103543Z
UID:1108-1757491200-1757523600@haighhall-golfclub.co.uk
SUMMARY:William Harrison Trophy
DESCRIPTION:
URL:https://haighhall-golfclub.co.uk/competitions/william-harrison-trophy/
END:VEVENT
BEGIN:VEVENT
DTSTART;TZID=UTC:20250907T080000
DTEND;TZID=UTC:20250907T170000
DTSTAMP:20260423T031910
CREATED:20250213T101006Z
LAST-MODIFIED:20250213T101006Z
UID:1048-1757232000-1757264400@haighhall-golfclub.co.uk
SUMMARY:Harold Hughes
DESCRIPTION:
URL:https://haighhall-golfclub.co.uk/competitions/harold-hughes-2/
END:VEVENT
BEGIN:VEVENT
DTSTART;TZID=UTC:20250906T080000
DTEND;TZID=UTC:20250906T170000
DTSTAMP:20260423T031910
CREATED:20250213T111107Z
LAST-MODIFIED:20250213T111107Z
UID:1163-1757145600-1757178000@haighhall-golfclub.co.uk
SUMMARY:Pat and Frank Dawber Trophy
DESCRIPTION:
URL:https://haighhall-golfclub.co.uk/competitions/pat-and-frank-dawber-trophy-2/
END:VEVENT
BEGIN:VEVENT
DTSTART;TZID=UTC:20250904T080000
DTEND;TZID=UTC:20250904T170000
DTSTAMP:20260423T031910
CREATED:20250213T114134Z
LAST-MODIFIED:20250213T114134Z
UID:1216-1756972800-1757005200@haighhall-golfclub.co.uk
SUMMARY:Final Round of Thursday Merit
DESCRIPTION:
URL:https://haighhall-golfclub.co.uk/competitions/final-round-of-thursday-merit/
CATEGORIES:9 Hole Competition
END:VEVENT
BEGIN:VEVENT
DTSTART;TZID=UTC:20250903T080000
DTEND;TZID=UTC:20250903T170000
DTSTAMP:20260423T031910
CREATED:20250213T102941Z
LAST-MODIFIED:20250213T103308Z
UID:1102-1756886400-1756918800@haighhall-golfclub.co.uk
SUMMARY:Seniors Merit Round 8
DESCRIPTION:
URL:https://haighhall-golfclub.co.uk/competitions/seniors-merit-round-8/
END:VEVENT
BEGIN:VEVENT
DTSTART;TZID=UTC:20250831T080000
DTEND;TZID=UTC:20250831T170000
DTSTAMP:20260423T031910
CREATED:20250213T100922Z
LAST-MODIFIED:20250213T100922Z
UID:1046-1756627200-1756659600@haighhall-golfclub.co.uk
SUMMARY:Jack Frost
DESCRIPTION:
URL:https://haighhall-golfclub.co.uk/competitions/jack-frost-2/
END:VEVENT
BEGIN:VEVENT
DTSTART;TZID=UTC:20250830T080000
DTEND;TZID=UTC:20250830T170000
DTSTAMP:20260423T031910
CREATED:20250213T111025Z
LAST-MODIFIED:20250213T111025Z
UID:1161-1756540800-1756573200@haighhall-golfclub.co.uk
SUMMARY:Jack Corrigan Round 8
DESCRIPTION:
URL:https://haighhall-golfclub.co.uk/competitions/jack-corrigan-round-8/
END:VEVENT
BEGIN:VEVENT
DTSTART;TZID=UTC:20250828T080000
DTEND;TZID=UTC:20250828T170000
DTSTAMP:20260423T031910
CREATED:20250213T114046Z
LAST-MODIFIED:20250213T114046Z
UID:1214-1756368000-1756400400@haighhall-golfclub.co.uk
SUMMARY:Stan Caldwell Final
DESCRIPTION:
URL:https://haighhall-golfclub.co.uk/competitions/stan-caldwell-final-2/
CATEGORIES:9 Hole Competition
END:VEVENT
BEGIN:VEVENT
DTSTART;TZID=UTC:20250827T080000
DTEND;TZID=UTC:20250827T170000
DTSTAMP:20260423T031910
CREATED:20250213T103446Z
LAST-MODIFIED:20250213T103446Z
UID:1106-1756281600-1756314000@haighhall-golfclub.co.uk
SUMMARY:Seniors August Medal
DESCRIPTION:
URL:https://haighhall-golfclub.co.uk/competitions/seniors-august-medal-2/
END:VEVENT
BEGIN:VEVENT
DTSTART;TZID=UTC:20250824T080000
DTEND;TZID=UTC:20250824T170000
DTSTAMP:20260423T031910
CREATED:20250213T100848Z
LAST-MODIFIED:20250213T100848Z
UID:1044-1756022400-1756054800@haighhall-golfclub.co.uk
SUMMARY:Thomas Chute Bogey
DESCRIPTION:
URL:https://haighhall-golfclub.co.uk/competitions/thomas-chute-bogey-2/
END:VEVENT
BEGIN:VEVENT
DTSTART;TZID=UTC:20250823T080000
DTEND;TZID=UTC:20250823T170000
DTSTAMP:20260423T031910
CREATED:20250213T110946Z
LAST-MODIFIED:20250213T110946Z
UID:1159-1755936000-1755968400@haighhall-golfclub.co.uk
SUMMARY:Saturday August Medal
DESCRIPTION:
URL:https://haighhall-golfclub.co.uk/competitions/saturday-august-medal/
END:VEVENT
BEGIN:VEVENT
DTSTART;TZID=UTC:20250821T080000
DTEND;TZID=UTC:20250821T170000
DTSTAMP:20260423T031910
CREATED:20250213T114002Z
LAST-MODIFIED:20250213T114002Z
UID:1212-1755763200-1755795600@haighhall-golfclub.co.uk
SUMMARY:Alan Hamblett Award Round 5
DESCRIPTION:
URL:https://haighhall-golfclub.co.uk/competitions/alan-hamblett-award-round-5/
CATEGORIES:9 Hole Competition
END:VEVENT
BEGIN:VEVENT
DTSTART;TZID=UTC:20250820T080000
DTEND;TZID=UTC:20250820T170000
DTSTAMP:20260423T031910
CREATED:20250213T103356Z
LAST-MODIFIED:20250213T103356Z
UID:1104-1755676800-1755709200@haighhall-golfclub.co.uk
SUMMARY:Steve Eyres Trophy
DESCRIPTION:
URL:https://haighhall-golfclub.co.uk/competitions/steve-eyres-trophy-2/
END:VEVENT
BEGIN:VEVENT
DTSTART;TZID=UTC:20250817T080000
DTEND;TZID=UTC:20250817T170000
DTSTAMP:20260423T031910
CREATED:20250213T100814Z
LAST-MODIFIED:20250213T100814Z
UID:1042-1755417600-1755450000@haighhall-golfclub.co.uk
SUMMARY:Rose Bowl
DESCRIPTION:
URL:https://haighhall-golfclub.co.uk/competitions/rose-bowl-3/
END:VEVENT
BEGIN:VEVENT
DTSTART;TZID=UTC:20250816T080000
DTEND;TZID=UTC:20250816T170000
DTSTAMP:20260423T031910
CREATED:20250213T110906Z
LAST-MODIFIED:20250213T110906Z
UID:1157-1755331200-1755363600@haighhall-golfclub.co.uk
SUMMARY:Jack Corrigan Round 7
DESCRIPTION:
URL:https://haighhall-golfclub.co.uk/competitions/jack-corrigan-round-7/
END:VEVENT
END:VCALENDAR