BEGIN:VCALENDAR
VERSION:2.0
PRODID:-//Haigh Hall Golf Club - ECPv6.15.20//NONSGML v1.0//EN
CALSCALE:GREGORIAN
METHOD:PUBLISH
X-ORIGINAL-URL:https://haighhall-golfclub.co.uk
X-WR-CALDESC:Events for Haigh Hall Golf Club
REFRESH-INTERVAL;VALUE=DURATION:PT1H
X-Robots-Tag:noindex
X-PUBLISHED-TTL:PT1H
BEGIN:VTIMEZONE
TZID:UTC
BEGIN:STANDARD
TZOFFSETFROM:+0000
TZOFFSETTO:+0000
TZNAME:UTC
DTSTART:20250101T000000
END:STANDARD
END:VTIMEZONE
BEGIN:VEVENT
DTSTART;TZID=UTC:20260919T080000
DTEND;TZID=UTC:20260919T170000
DTSTAMP:20260422T235737
CREATED:20260220T092633Z
LAST-MODIFIED:20260220T092633Z
UID:1379-1789804800-1789837200@haighhall-golfclub.co.uk
SUMMARY:Merit Rnd 11 Sat
DESCRIPTION:
URL:https://haighhall-golfclub.co.uk/competitions/merit-rnd-11-sat/
END:VEVENT
BEGIN:VEVENT
DTSTART;TZID=UTC:20260923T080000
DTEND;TZID=UTC:20260923T170000
DTSTAMP:20260422T235737
CREATED:20260220T102219Z
LAST-MODIFIED:20260220T102219Z
UID:1489-1790150400-1790182800@haighhall-golfclub.co.uk
SUMMARY:Sen Merit Final Rnd
DESCRIPTION:
URL:https://haighhall-golfclub.co.uk/competitions/sen-merit-final-rnd/
END:VEVENT
BEGIN:VEVENT
DTSTART;TZID=UTC:20260926T080000
DTEND;TZID=UTC:20260926T170000
DTSTAMP:20260422T235737
CREATED:20260220T092711Z
LAST-MODIFIED:20260220T092711Z
UID:1381-1790409600-1790442000@haighhall-golfclub.co.uk
SUMMARY:September Medal
DESCRIPTION:
URL:https://haighhall-golfclub.co.uk/competitions/september-medal-2/
END:VEVENT
BEGIN:VEVENT
DTSTART;TZID=UTC:20261003T080000
DTEND;TZID=UTC:20261003T170000
DTSTAMP:20260422T235737
CREATED:20260220T092746Z
LAST-MODIFIED:20260220T092746Z
UID:1383-1791014400-1791046800@haighhall-golfclub.co.uk
SUMMARY:Final Merit Sat
DESCRIPTION:
URL:https://haighhall-golfclub.co.uk/competitions/final-merit-sat/
END:VEVENT
BEGIN:VEVENT
DTSTART;TZID=UTC:20261010T080000
DTEND;TZID=UTC:20261010T170000
DTSTAMP:20260422T235737
CREATED:20260220T092826Z
LAST-MODIFIED:20260220T092826Z
UID:1385-1791619200-1791651600@haighhall-golfclub.co.uk
SUMMARY:October Medal
DESCRIPTION:
URL:https://haighhall-golfclub.co.uk/competitions/october-medal-2/
END:VEVENT
END:VCALENDAR