BEGIN:VCALENDAR
VERSION:2.0
PRODID:-//Haigh Hall Golf Club - ECPv6.15.20//NONSGML v1.0//EN
CALSCALE:GREGORIAN
METHOD:PUBLISH
X-WR-CALNAME:Haigh Hall Golf Club
X-ORIGINAL-URL:https://haighhall-golfclub.co.uk
X-WR-CALDESC:Events for Haigh Hall Golf Club
REFRESH-INTERVAL;VALUE=DURATION:PT1H
X-Robots-Tag:noindex
X-PUBLISHED-TTL:PT1H
BEGIN:VTIMEZONE
TZID:UTC
BEGIN:STANDARD
TZOFFSETFROM:+0000
TZOFFSETTO:+0000
TZNAME:UTC
DTSTART:20250101T000000
END:STANDARD
END:VTIMEZONE
BEGIN:VEVENT
DTSTART;TZID=UTC:20260607T080000
DTEND;TZID=UTC:20260607T170000
DTSTAMP:20260422T221332
CREATED:20260220T094131Z
LAST-MODIFIED:20260220T094131Z
UID:1407-1780819200-1780851600@haighhall-golfclub.co.uk
SUMMARY:Captains Prize Day
DESCRIPTION:
URL:https://haighhall-golfclub.co.uk/competitions/captains-prize-day-3/
END:VEVENT
BEGIN:VEVENT
DTSTART;TZID=UTC:20260606T080000
DTEND;TZID=UTC:20260606T170000
DTSTAMP:20260422T221332
CREATED:20260220T091633Z
LAST-MODIFIED:20260220T091633Z
UID:1353-1780732800-1780765200@haighhall-golfclub.co.uk
SUMMARY:June Medal
DESCRIPTION:
URL:https://haighhall-golfclub.co.uk/competitions/june-medal-2/
END:VEVENT
BEGIN:VEVENT
DTSTART;TZID=UTC:20260604T080000
DTEND;TZID=UTC:20260604T170000
DTSTAMP:20260422T221332
CREATED:20260220T100215Z
LAST-MODIFIED:20260220T100215Z
UID:1445-1780560000-1780592400@haighhall-golfclub.co.uk
SUMMARY:Thursday Merit Rnd 3
DESCRIPTION:
URL:https://haighhall-golfclub.co.uk/competitions/thursday-merit-rnd-3/
END:VEVENT
BEGIN:VEVENT
DTSTART;TZID=UTC:20260603T080000
DTEND;TZID=UTC:20260603T170000
DTSTAMP:20260422T221332
CREATED:20260220T102732Z
LAST-MODIFIED:20260220T102732Z
UID:1501-1780473600-1780506000@haighhall-golfclub.co.uk
SUMMARY:Doris Eyres Trophy
DESCRIPTION:
URL:https://haighhall-golfclub.co.uk/competitions/doris-eyres-trophy-3/
END:VEVENT
BEGIN:VEVENT
DTSTART;TZID=UTC:20260531T080000
DTEND;TZID=UTC:20260531T170000
DTSTAMP:20260422T221332
CREATED:20260220T094054Z
LAST-MODIFIED:20260220T094054Z
UID:1405-1780214400-1780246800@haighhall-golfclub.co.uk
SUMMARY:Founders Trophy
DESCRIPTION:
URL:https://haighhall-golfclub.co.uk/competitions/founders-trophy-2/
END:VEVENT
BEGIN:VEVENT
DTSTART;TZID=UTC:20260530T080000
DTEND;TZID=UTC:20260530T170000
DTSTAMP:20260422T221332
CREATED:20260220T091542Z
LAST-MODIFIED:20260220T091542Z
UID:1351-1780128000-1780160400@haighhall-golfclub.co.uk
SUMMARY:Merit Rnd 3 Sat
DESCRIPTION:
URL:https://haighhall-golfclub.co.uk/competitions/merit-rnd-3-sat/
END:VEVENT
BEGIN:VEVENT
DTSTART;TZID=UTC:20260528T080000
DTEND;TZID=UTC:20260528T170000
DTSTAMP:20260422T221332
CREATED:20260220T100129Z
LAST-MODIFIED:20260220T100129Z
UID:1443-1779955200-1779987600@haighhall-golfclub.co.uk
SUMMARY:Stan Caldwell Award
DESCRIPTION:
URL:https://haighhall-golfclub.co.uk/competitions/stan-caldwell-award/
END:VEVENT
BEGIN:VEVENT
DTSTART;TZID=UTC:20260527T080000
DTEND;TZID=UTC:20260527T170000
DTSTAMP:20260422T221332
CREATED:20260220T102651Z
LAST-MODIFIED:20260220T102651Z
UID:1499-1779868800-1779901200@haighhall-golfclub.co.uk
SUMMARY:John Rogers Trophy
DESCRIPTION:
URL:https://haighhall-golfclub.co.uk/competitions/john-rogers-trophy-2/
END:VEVENT
BEGIN:VEVENT
DTSTART;TZID=UTC:20260524T080000
DTEND;TZID=UTC:20260524T170000
DTSTAMP:20260422T221332
CREATED:20260220T094019Z
LAST-MODIFIED:20260220T094019Z
UID:1403-1779609600-1779642000@haighhall-golfclub.co.uk
SUMMARY:Presidents Cup
DESCRIPTION:
URL:https://haighhall-golfclub.co.uk/competitions/presidents-cup-3/
END:VEVENT
BEGIN:VEVENT
DTSTART;TZID=UTC:20260523T080000
DTEND;TZID=UTC:20260523T170000
DTSTAMP:20260422T221332
CREATED:20260220T091500Z
LAST-MODIFIED:20260220T091500Z
UID:1349-1779523200-1779555600@haighhall-golfclub.co.uk
SUMMARY:May Medal
DESCRIPTION:
URL:https://haighhall-golfclub.co.uk/competitions/may-medal-2/
END:VEVENT
BEGIN:VEVENT
DTSTART;TZID=UTC:20260521T080000
DTEND;TZID=UTC:20260521T170000
DTSTAMP:20260422T221332
CREATED:20260220T100053Z
LAST-MODIFIED:20260220T100053Z
UID:1441-1779350400-1779382800@haighhall-golfclub.co.uk
SUMMARY:Alan Hamblett Award Rnd 2
DESCRIPTION:
URL:https://haighhall-golfclub.co.uk/competitions/alan-hamblett-award-rnd-2/
END:VEVENT
BEGIN:VEVENT
DTSTART;TZID=UTC:20260520T080000
DTEND;TZID=UTC:20260520T170000
DTSTAMP:20260422T221332
CREATED:20260220T102607Z
LAST-MODIFIED:20260220T102607Z
UID:1497-1779264000-1779296400@haighhall-golfclub.co.uk
SUMMARY:Sen May Medal
DESCRIPTION:
URL:https://haighhall-golfclub.co.uk/competitions/sen-may-medal/
END:VEVENT
BEGIN:VEVENT
DTSTART;TZID=UTC:20260517T080000
DTEND;TZID=UTC:20260517T170000
DTSTAMP:20260422T221332
CREATED:20260220T093943Z
LAST-MODIFIED:20260220T093943Z
UID:1401-1779004800-1779037200@haighhall-golfclub.co.uk
SUMMARY:Past Captains Trophy
DESCRIPTION:
URL:https://haighhall-golfclub.co.uk/competitions/past-captains-trophy-3/
END:VEVENT
BEGIN:VEVENT
DTSTART;TZID=UTC:20260516T080000
DTEND;TZID=UTC:20260516T170000
DTSTAMP:20260422T221332
CREATED:20260220T091427Z
LAST-MODIFIED:20260220T091427Z
UID:1347-1778918400-1778950800@haighhall-golfclub.co.uk
SUMMARY:Merit Rnd 2 Sat
DESCRIPTION:
URL:https://haighhall-golfclub.co.uk/competitions/merit-rnd-2-sat/
END:VEVENT
BEGIN:VEVENT
DTSTART;TZID=UTC:20260514T080000
DTEND;TZID=UTC:20260514T170000
DTSTAMP:20260422T221332
CREATED:20260220T100007Z
LAST-MODIFIED:20260220T100007Z
UID:1439-1778745600-1778778000@haighhall-golfclub.co.uk
SUMMARY:Thursday Merit Rnd 2
DESCRIPTION:
URL:https://haighhall-golfclub.co.uk/competitions/thursday-merit-rnd-2/
END:VEVENT
BEGIN:VEVENT
DTSTART;TZID=UTC:20260513T080000
DTEND;TZID=UTC:20260513T170000
DTSTAMP:20260422T221332
CREATED:20260220T102537Z
LAST-MODIFIED:20260220T102537Z
UID:1495-1778659200-1778691600@haighhall-golfclub.co.uk
SUMMARY:Frank Wood Trophy
DESCRIPTION:
URL:https://haighhall-golfclub.co.uk/competitions/frank-wood-trophy-3/
END:VEVENT
BEGIN:VEVENT
DTSTART;TZID=UTC:20260510T080000
DTEND;TZID=UTC:20260510T170000
DTSTAMP:20260422T221332
CREATED:20260220T093906Z
LAST-MODIFIED:20260220T093906Z
UID:1399-1778400000-1778432400@haighhall-golfclub.co.uk
SUMMARY:Two Left Feet Trophy Rnd 1
DESCRIPTION:
URL:https://haighhall-golfclub.co.uk/competitions/two-left-feet-trophy-rnd-1/
END:VEVENT
BEGIN:VEVENT
DTSTART;TZID=UTC:20260509T080000
DTEND;TZID=UTC:20260509T170000
DTSTAMP:20260422T221332
CREATED:20260220T091321Z
LAST-MODIFIED:20260220T091321Z
UID:1345-1778313600-1778346000@haighhall-golfclub.co.uk
SUMMARY:Opening Medal Sat
DESCRIPTION:
URL:https://haighhall-golfclub.co.uk/competitions/opening-medal-sat/
END:VEVENT
BEGIN:VEVENT
DTSTART;TZID=UTC:20260507T080000
DTEND;TZID=UTC:20260507T170000
DTSTAMP:20260422T221332
CREATED:20260220T095936Z
LAST-MODIFIED:20260220T095936Z
UID:1437-1778140800-1778173200@haighhall-golfclub.co.uk
SUMMARY:Thursday Merit Rnd 1
DESCRIPTION:
URL:https://haighhall-golfclub.co.uk/competitions/thursday-merit-rnd-1/
END:VEVENT
BEGIN:VEVENT
DTSTART;TZID=UTC:20260506T080000
DTEND;TZID=UTC:20260506T170000
DTSTAMP:20260422T221332
CREATED:20260220T102458Z
LAST-MODIFIED:20260220T102458Z
UID:1493-1778054400-1778086800@haighhall-golfclub.co.uk
SUMMARY:John Hooton Trophy
DESCRIPTION:
URL:https://haighhall-golfclub.co.uk/competitions/john-hooton-trophy-3/
END:VEVENT
BEGIN:VEVENT
DTSTART;TZID=UTC:20260503T080000
DTEND;TZID=UTC:20260503T170000
DTSTAMP:20260422T221332
CREATED:20260220T093829Z
LAST-MODIFIED:20260220T093829Z
UID:1397-1777795200-1777827600@haighhall-golfclub.co.uk
SUMMARY:Captains Cup
DESCRIPTION:
URL:https://haighhall-golfclub.co.uk/competitions/captains-cup-5/
END:VEVENT
BEGIN:VEVENT
DTSTART;TZID=UTC:20260502T080000
DTEND;TZID=UTC:20260502T170000
DTSTAMP:20260422T221332
CREATED:20260220T091209Z
LAST-MODIFIED:20260220T091209Z
UID:1343-1777708800-1777741200@haighhall-golfclub.co.uk
SUMMARY:Saturday Merit
DESCRIPTION:
URL:https://haighhall-golfclub.co.uk/competitions/saturday-merit/
END:VEVENT
BEGIN:VEVENT
DTSTART;TZID=UTC:20260430T080000
DTEND;TZID=UTC:20260430T170000
DTSTAMP:20260422T221332
CREATED:20260220T095900Z
LAST-MODIFIED:20260220T095900Z
UID:1435-1777536000-1777568400@haighhall-golfclub.co.uk
SUMMARY:Stan Caldwell Trophy
DESCRIPTION:
URL:https://haighhall-golfclub.co.uk/competitions/stan-caldwell-trophy/
END:VEVENT
BEGIN:VEVENT
DTSTART;TZID=UTC:20260429T080000
DTEND;TZID=UTC:20260429T170000
DTSTAMP:20260422T221332
CREATED:20260220T102250Z
LAST-MODIFIED:20260220T102250Z
UID:1491-1777449600-1777482000@haighhall-golfclub.co.uk
SUMMARY:Sen Opening Medal
DESCRIPTION:
URL:https://haighhall-golfclub.co.uk/competitions/sen-opening-medal/
END:VEVENT
BEGIN:VEVENT
DTSTART;TZID=UTC:20260426T080000
DTEND;TZID=UTC:20260426T170000
DTSTAMP:20260422T221332
CREATED:20260220T093753Z
LAST-MODIFIED:20260220T093753Z
UID:1395-1777190400-1777222800@haighhall-golfclub.co.uk
SUMMARY:Geoff Hayton Trophy
DESCRIPTION:
URL:https://haighhall-golfclub.co.uk/competitions/geoff-hayton-trophy-3/
END:VEVENT
BEGIN:VEVENT
DTSTART;TZID=UTC:20260425T080000
DTEND;TZID=UTC:20260425T170000
DTSTAMP:20260422T221332
CREATED:20260220T090859Z
LAST-MODIFIED:20260220T090859Z
UID:1341-1777104000-1777136400@haighhall-golfclub.co.uk
SUMMARY:David Keates
DESCRIPTION:
URL:https://haighhall-golfclub.co.uk/competitions/david-keates-2/
END:VEVENT
BEGIN:VEVENT
DTSTART;TZID=UTC:20260423T080000
DTEND;TZID=UTC:20260423T170000
DTSTAMP:20260422T221332
CREATED:20260220T095821Z
LAST-MODIFIED:20260220T095821Z
UID:1433-1776931200-1776963600@haighhall-golfclub.co.uk
SUMMARY:Alan Hamblett Award Rnd 1
DESCRIPTION:
URL:https://haighhall-golfclub.co.uk/competitions/alan-hamblett-award-rnd-1/
END:VEVENT
BEGIN:VEVENT
DTSTART;TZID=UTC:20260422T080000
DTEND;TZID=UTC:20260422T170000
DTSTAMP:20260422T221332
CREATED:20260220T101902Z
LAST-MODIFIED:20260220T101902Z
UID:1479-1776844800-1776877200@haighhall-golfclub.co.uk
SUMMARY:Sen Merit Rnd 4
DESCRIPTION:
URL:https://haighhall-golfclub.co.uk/competitions/sen-merit-rnd-4/
END:VEVENT
BEGIN:VEVENT
DTSTART;TZID=UTC:20260419T080000
DTEND;TZID=UTC:20260419T170000
DTSTAMP:20260422T221332
CREATED:20260220T093721Z
LAST-MODIFIED:20260220T093721Z
UID:1393-1776585600-1776618000@haighhall-golfclub.co.uk
SUMMARY:Jack Carrington Pairs
DESCRIPTION:
URL:https://haighhall-golfclub.co.uk/competitions/jack-carrington-pairs-3/
END:VEVENT
BEGIN:VEVENT
DTSTART;TZID=UTC:20260418T080000
DTEND;TZID=UTC:20260418T170000
DTSTAMP:20260422T221332
CREATED:20260220T090830Z
LAST-MODIFIED:20260220T090830Z
UID:1339-1776499200-1776531600@haighhall-golfclub.co.uk
SUMMARY:Posy Bowl
DESCRIPTION:
URL:https://haighhall-golfclub.co.uk/competitions/posy-bowl-3/
END:VEVENT
END:VCALENDAR