BEGIN:VCALENDAR
VERSION:2.0
PRODID:-//Haigh Hall Golf Club - ECPv6.15.20//NONSGML v1.0//EN
CALSCALE:GREGORIAN
METHOD:PUBLISH
X-WR-CALNAME:Haigh Hall Golf Club
X-ORIGINAL-URL:https://haighhall-golfclub.co.uk
X-WR-CALDESC:Events for Haigh Hall Golf Club
REFRESH-INTERVAL;VALUE=DURATION:PT1H
X-Robots-Tag:noindex
X-PUBLISHED-TTL:PT1H
BEGIN:VTIMEZONE
TZID:Europe/London
BEGIN:DAYLIGHT
TZOFFSETFROM:+0000
TZOFFSETTO:+0100
TZNAME:BST
DTSTART:20230326T010000
END:DAYLIGHT
BEGIN:STANDARD
TZOFFSETFROM:+0100
TZOFFSETTO:+0000
TZNAME:GMT
DTSTART:20231029T010000
END:STANDARD
BEGIN:DAYLIGHT
TZOFFSETFROM:+0000
TZOFFSETTO:+0100
TZNAME:BST
DTSTART:20240331T010000
END:DAYLIGHT
BEGIN:STANDARD
TZOFFSETFROM:+0100
TZOFFSETTO:+0000
TZNAME:GMT
DTSTART:20241027T010000
END:STANDARD
BEGIN:DAYLIGHT
TZOFFSETFROM:+0000
TZOFFSETTO:+0100
TZNAME:BST
DTSTART:20250330T010000
END:DAYLIGHT
BEGIN:STANDARD
TZOFFSETFROM:+0100
TZOFFSETTO:+0000
TZNAME:GMT
DTSTART:20251026T010000
END:STANDARD
END:VTIMEZONE
BEGIN:VEVENT
DTSTART;VALUE=DATE:20240815
DTEND;VALUE=DATE:20240816
DTSTAMP:20260423T164944
CREATED:20240405T172247Z
LAST-MODIFIED:20240405T173726Z
UID:734-1723680000-1723766399@haighhall-golfclub.co.uk
SUMMARY:Stan Caldwell
DESCRIPTION:
URL:https://haighhall-golfclub.co.uk/competitions/stan-caldwell-7/
CATEGORIES:9 Hole Competition
END:VEVENT
BEGIN:VEVENT
DTSTART;VALUE=DATE:20240814
DTEND;VALUE=DATE:20240815
DTSTAMP:20260423T164944
CREATED:20240405T172126Z
LAST-MODIFIED:20240823T083028Z
UID:675-1723593600-1723679999@haighhall-golfclub.co.uk
SUMMARY:Jack Frost Rose Bowl
DESCRIPTION:Winner D Derbyshire \nDivision J Egan \nDivision A G Baybutt
URL:https://haighhall-golfclub.co.uk/competitions/jack-frost-rose-bowl/
END:VEVENT
BEGIN:VEVENT
DTSTART;VALUE=DATE:20240811
DTEND;VALUE=DATE:20240812
DTSTAMP:20260423T164944
CREATED:20240405T171753Z
LAST-MODIFIED:20240823T105236Z
UID:643-1723334400-1723420799@haighhall-golfclub.co.uk
SUMMARY:Vice Captains Trophy
DESCRIPTION:Overall Winner \n\nD Middleton\n\nDivisional Winners \n\nJ Shepherd\nJ Leigh\nP O’Neil
URL:https://haighhall-golfclub.co.uk/competitions/vice-captains-trophy/
END:VEVENT
BEGIN:VEVENT
DTSTART;VALUE=DATE:20240810
DTEND;VALUE=DATE:20240811
DTSTAMP:20260423T164944
CREATED:20240405T172238Z
LAST-MODIFIED:20240823T092051Z
UID:698-1723248000-1723334399@haighhall-golfclub.co.uk
SUMMARY:Rose bowl
DESCRIPTION:Winner N Ryan \nDivision J Egan
URL:https://haighhall-golfclub.co.uk/competitions/rose-bowl-2/
END:VEVENT
BEGIN:VEVENT
DTSTART;VALUE=DATE:20240808
DTEND;VALUE=DATE:20240809
DTSTAMP:20260423T164944
CREATED:20240405T172247Z
LAST-MODIFIED:20240405T173617Z
UID:733-1723075200-1723161599@haighhall-golfclub.co.uk
SUMMARY:Thursday Merit
DESCRIPTION:
URL:https://haighhall-golfclub.co.uk/competitions/thursday-merit-7/
CATEGORIES:9 Hole Competition
END:VEVENT
BEGIN:VEVENT
DTSTART;VALUE=DATE:20240807
DTEND;VALUE=DATE:20240808
DTSTAMP:20260423T164944
CREATED:20240405T172027Z
LAST-MODIFIED:20240823T082837Z
UID:665-1722988800-1723075199@haighhall-golfclub.co.uk
SUMMARY:Seniors Merit Round 1
DESCRIPTION:Winner G Threlfall \nDivision K White
URL:https://haighhall-golfclub.co.uk/competitions/seniors-merit-4/
END:VEVENT
BEGIN:VEVENT
DTSTART;VALUE=DATE:20240804
DTEND;VALUE=DATE:20240805
DTSTAMP:20260423T164944
CREATED:20240405T171753Z
LAST-MODIFIED:20240823T105040Z
UID:642-1722729600-1722815999@haighhall-golfclub.co.uk
SUMMARY:Alderman Walter Somers
DESCRIPTION:Overall Winner \n\nL Filbin\n\nDivisional Winners \n\nJ Shepherd\nP Hitchen\nC Williams
URL:https://haighhall-golfclub.co.uk/competitions/alderman-walter-somers/
CATEGORIES:Ian Lee Merit
END:VEVENT
BEGIN:VEVENT
DTSTART;VALUE=DATE:20240803
DTEND;VALUE=DATE:20240804
DTSTAMP:20260423T164944
CREATED:20240405T172238Z
LAST-MODIFIED:20240823T091933Z
UID:697-1722643200-1722729599@haighhall-golfclub.co.uk
SUMMARY:Jack Corrigan Merit
DESCRIPTION:Winner M Harrison \nSecond A Ball
URL:https://haighhall-golfclub.co.uk/competitions/jack-corrigan-merit-6/
END:VEVENT
BEGIN:VEVENT
DTSTART;VALUE=DATE:20240801
DTEND;VALUE=DATE:20240802
DTSTAMP:20260423T164944
CREATED:20240405T172247Z
LAST-MODIFIED:20240405T173726Z
UID:732-1722470400-1722556799@haighhall-golfclub.co.uk
SUMMARY:Stan Caldwell
DESCRIPTION:
URL:https://haighhall-golfclub.co.uk/competitions/stan-caldwell-6/
CATEGORIES:9 Hole Competition
END:VEVENT
BEGIN:VEVENT
DTSTART;VALUE=DATE:20240731
DTEND;VALUE=DATE:20240801
DTSTAMP:20260423T164944
CREATED:20240405T172123Z
LAST-MODIFIED:20240823T083846Z
UID:671-1722384000-1722470399@haighhall-golfclub.co.uk
SUMMARY:John Rogers Trophy
DESCRIPTION:Winner D Owen \nDivision N Guy \nDivision P Wood
URL:https://haighhall-golfclub.co.uk/competitions/ppg-trophy/
END:VEVENT
BEGIN:VEVENT
DTSTART;VALUE=DATE:20240728
DTEND;VALUE=DATE:20240729
DTSTAMP:20260423T164944
CREATED:20240405T171753Z
LAST-MODIFIED:20240823T104857Z
UID:641-1722124800-1722211199@haighhall-golfclub.co.uk
SUMMARY:Secretary's Cup
DESCRIPTION:Overall Winner \n\nG Honor\n\nDivisional Winners \n\nP Jennings\nA Hodges\nB McDonnell
URL:https://haighhall-golfclub.co.uk/competitions/secretarys-cup/
END:VEVENT
BEGIN:VEVENT
DTSTART;VALUE=DATE:20240727
DTEND;VALUE=DATE:20240728
DTSTAMP:20260423T164944
CREATED:20240405T172238Z
LAST-MODIFIED:20240823T091811Z
UID:696-1722038400-1722124799@haighhall-golfclub.co.uk
SUMMARY:July Medal
DESCRIPTION:Winner A Ball \nDivision N Unsworth
URL:https://haighhall-golfclub.co.uk/competitions/july-medal/
END:VEVENT
BEGIN:VEVENT
DTSTART;VALUE=DATE:20240725
DTEND;VALUE=DATE:20240726
DTSTAMP:20260423T164944
CREATED:20240405T172247Z
LAST-MODIFIED:20240405T173600Z
UID:731-1721865600-1721951999@haighhall-golfclub.co.uk
SUMMARY:Alan Hamblett Award
DESCRIPTION:
URL:https://haighhall-golfclub.co.uk/competitions/alan-hamblett-award-4/
CATEGORIES:9 Hole Competition
END:VEVENT
BEGIN:VEVENT
DTSTART;VALUE=DATE:20240724
DTEND;VALUE=DATE:20240725
DTSTAMP:20260423T164944
CREATED:20240405T172123Z
LAST-MODIFIED:20240823T082413Z
UID:670-1721779200-1721865599@haighhall-golfclub.co.uk
SUMMARY:Seniors Club Championship Rnd 2
DESCRIPTION:Winner A Culshaw
URL:https://haighhall-golfclub.co.uk/competitions/seniors-club-championship-rnd-2/
END:VEVENT
BEGIN:VEVENT
DTSTART;VALUE=DATE:20240721
DTEND;VALUE=DATE:20240722
DTSTAMP:20260423T164944
CREATED:20240405T171753Z
LAST-MODIFIED:20240823T104702Z
UID:640-1721520000-1721606399@haighhall-golfclub.co.uk
SUMMARY:Club Championship Round 2
DESCRIPTION:Overall Winner \n\nB Higham\n\nDivisional Winners \n\nC Griffiths\nT Battersby\nA Hodges
URL:https://haighhall-golfclub.co.uk/competitions/club-championship-round-2/
END:VEVENT
BEGIN:VEVENT
DTSTART;VALUE=DATE:20240720
DTEND;VALUE=DATE:20240721
DTSTAMP:20260423T164944
CREATED:20240405T172238Z
LAST-MODIFIED:20240823T092533Z
UID:695-1721433600-1721519999@haighhall-golfclub.co.uk
SUMMARY:Jack Corrigan Merit
DESCRIPTION:Winner G Threlfall \nSecond C Gallagher
URL:https://haighhall-golfclub.co.uk/competitions/club-championship-rnd-2/
END:VEVENT
BEGIN:VEVENT
DTSTART;VALUE=DATE:20240718
DTEND;VALUE=DATE:20240719
DTSTAMP:20260423T164944
CREATED:20240405T172247Z
LAST-MODIFIED:20240405T173617Z
UID:730-1721260800-1721347199@haighhall-golfclub.co.uk
SUMMARY:Thursday Merit
DESCRIPTION:
URL:https://haighhall-golfclub.co.uk/competitions/thursday-merit-6/
CATEGORIES:9 Hole Competition
END:VEVENT
BEGIN:VEVENT
DTSTART;VALUE=DATE:20240717
DTEND;VALUE=DATE:20240718
DTSTAMP:20260423T164944
CREATED:20240405T172028Z
LAST-MODIFIED:20240823T082325Z
UID:669-1721174400-1721260799@haighhall-golfclub.co.uk
SUMMARY:Seniors Club Championship Rnd 1
DESCRIPTION:Winner A Culshaw
URL:https://haighhall-golfclub.co.uk/competitions/seniors-club-championship-rnd-1/
END:VEVENT
BEGIN:VEVENT
DTSTART;VALUE=DATE:20240714
DTEND;VALUE=DATE:20240715
DTSTAMP:20260423T164944
CREATED:20240405T171739Z
LAST-MODIFIED:20240823T103923Z
UID:639-1720915200-1721001599@haighhall-golfclub.co.uk
SUMMARY:Club Championship Round 1
DESCRIPTION:Overall Winner \n\nM Connor\n\nDivisional Winner \n\nC Griffiths\nR Sinclair\nD Eastham
URL:https://haighhall-golfclub.co.uk/competitions/club-championship-round-1/
END:VEVENT
BEGIN:VEVENT
DTSTART;VALUE=DATE:20240713
DTEND;VALUE=DATE:20240714
DTSTAMP:20260423T164944
CREATED:20240405T172236Z
LAST-MODIFIED:20240823T092356Z
UID:694-1720828800-1720915199@haighhall-golfclub.co.uk
SUMMARY:Jack Corrigan Merit
DESCRIPTION:Winner P Wilson \nSecond J Egan
URL:https://haighhall-golfclub.co.uk/competitions/club-championship-rnd-1/
END:VEVENT
BEGIN:VEVENT
DTSTART;VALUE=DATE:20240711
DTEND;VALUE=DATE:20240712
DTSTAMP:20260423T164944
CREATED:20240405T172245Z
LAST-MODIFIED:20240405T173726Z
UID:724-1720656000-1720742399@haighhall-golfclub.co.uk
SUMMARY:Stan Caldwell
DESCRIPTION:
URL:https://haighhall-golfclub.co.uk/competitions/stan-caldwell-5/
CATEGORIES:9 Hole Competition
END:VEVENT
BEGIN:VEVENT
DTSTART;VALUE=DATE:20240710
DTEND;VALUE=DATE:20240711
DTSTAMP:20260423T164944
CREATED:20240405T172028Z
LAST-MODIFIED:20240405T172028Z
UID:668-1720569600-1720655999@haighhall-golfclub.co.uk
SUMMARY:Seniors Merit
DESCRIPTION:
URL:https://haighhall-golfclub.co.uk/competitions/seniors-merit-5/
END:VEVENT
BEGIN:VEVENT
DTSTART;VALUE=DATE:20240710
DTEND;VALUE=DATE:20240711
DTSTAMP:20260423T164944
CREATED:20240405T172027Z
LAST-MODIFIED:20240823T082212Z
UID:667-1720569600-1720655999@haighhall-golfclub.co.uk
SUMMARY:Seniors July Medal
DESCRIPTION:Winner P Wood \nDivision P Perkins
URL:https://haighhall-golfclub.co.uk/competitions/seniors-july-medal/
END:VEVENT
BEGIN:VEVENT
DTSTART;VALUE=DATE:20240707
DTEND;VALUE=DATE:20240708
DTSTAMP:20260423T164944
CREATED:20240405T171738Z
LAST-MODIFIED:20240823T103536Z
UID:638-1720310400-1720396799@haighhall-golfclub.co.uk
SUMMARY:Invitation Day
DESCRIPTION:Winners \n\nD Honor & S Herbert\n\nSecond \n\nJ Shepherd & A Southworth
URL:https://haighhall-golfclub.co.uk/competitions/invitation-day/
END:VEVENT
BEGIN:VEVENT
DTSTART;VALUE=DATE:20240706
DTEND;VALUE=DATE:20240707
DTSTAMP:20260423T164944
CREATED:20240405T172236Z
LAST-MODIFIED:20240823T091556Z
UID:693-1720224000-1720310399@haighhall-golfclub.co.uk
SUMMARY:Farrimond Shield
DESCRIPTION:Winner T Battersby \nDivision D Caton
URL:https://haighhall-golfclub.co.uk/competitions/farrimond-shield/
END:VEVENT
BEGIN:VEVENT
DTSTART;VALUE=DATE:20240704
DTEND;VALUE=DATE:20240705
DTSTAMP:20260423T164944
CREATED:20240405T172245Z
LAST-MODIFIED:20240405T173617Z
UID:723-1720051200-1720137599@haighhall-golfclub.co.uk
SUMMARY:Thursday Merit
DESCRIPTION:
URL:https://haighhall-golfclub.co.uk/competitions/thursday-merit-5/
CATEGORIES:9 Hole Competition
END:VEVENT
BEGIN:VEVENT
DTSTART;VALUE=DATE:20240703
DTEND;VALUE=DATE:20240704
DTSTAMP:20260423T164944
CREATED:20240405T171957Z
LAST-MODIFIED:20240823T082046Z
UID:659-1719964800-1720051199@haighhall-golfclub.co.uk
SUMMARY:Captains Cup
DESCRIPTION:Winner A Hodges \nDivision R Sinclair \nDivision D Eastham
URL:https://haighhall-golfclub.co.uk/competitions/captains-cup-2/
END:VEVENT
BEGIN:VEVENT
DTSTART;VALUE=DATE:20240630
DTEND;VALUE=DATE:20240701
DTSTAMP:20260423T164944
CREATED:20240405T171738Z
LAST-MODIFIED:20240823T103326Z
UID:637-1719705600-1719791999@haighhall-golfclub.co.uk
SUMMARY:JAL 50 Trophy
DESCRIPTION:Overall Winner \n\nS Davies\n\nDivisional Winners \n\nT Battersby\nA Hodges\nS Pennington
URL:https://haighhall-golfclub.co.uk/competitions/jal-50-trophy/
END:VEVENT
BEGIN:VEVENT
DTSTART;VALUE=DATE:20240629
DTEND;VALUE=DATE:20240630
DTSTAMP:20260423T164944
CREATED:20240405T172236Z
LAST-MODIFIED:20240823T091338Z
UID:692-1719619200-1719705599@haighhall-golfclub.co.uk
SUMMARY:Jack Corrigan Merit
DESCRIPTION:Winner D Honor \nSecond M Connor
URL:https://haighhall-golfclub.co.uk/competitions/jack-corrigan-merit-5/
END:VEVENT
BEGIN:VEVENT
DTSTART;VALUE=DATE:20240627
DTEND;VALUE=DATE:20240628
DTSTAMP:20260423T164944
CREATED:20240405T172245Z
LAST-MODIFIED:20240405T173726Z
UID:722-1719446400-1719532799@haighhall-golfclub.co.uk
SUMMARY:Stan Caldwell
DESCRIPTION:
URL:https://haighhall-golfclub.co.uk/competitions/stan-caldwell-4/
CATEGORIES:9 Hole Competition
END:VEVENT
END:VCALENDAR