BEGIN:VCALENDAR
VERSION:2.0
PRODID:-//Haigh Hall Golf Club - ECPv6.15.20//NONSGML v1.0//EN
CALSCALE:GREGORIAN
METHOD:PUBLISH
X-WR-CALNAME:Haigh Hall Golf Club
X-ORIGINAL-URL:https://haighhall-golfclub.co.uk
X-WR-CALDESC:Events for Haigh Hall Golf Club
REFRESH-INTERVAL;VALUE=DURATION:PT1H
X-Robots-Tag:noindex
X-PUBLISHED-TTL:PT1H
BEGIN:VTIMEZONE
TZID:Europe/London
BEGIN:DAYLIGHT
TZOFFSETFROM:+0000
TZOFFSETTO:+0100
TZNAME:BST
DTSTART:20230326T010000
END:DAYLIGHT
BEGIN:STANDARD
TZOFFSETFROM:+0100
TZOFFSETTO:+0000
TZNAME:GMT
DTSTART:20231029T010000
END:STANDARD
BEGIN:DAYLIGHT
TZOFFSETFROM:+0000
TZOFFSETTO:+0100
TZNAME:BST
DTSTART:20240331T010000
END:DAYLIGHT
BEGIN:STANDARD
TZOFFSETFROM:+0100
TZOFFSETTO:+0000
TZNAME:GMT
DTSTART:20241027T010000
END:STANDARD
BEGIN:DAYLIGHT
TZOFFSETFROM:+0000
TZOFFSETTO:+0100
TZNAME:BST
DTSTART:20250330T010000
END:DAYLIGHT
BEGIN:STANDARD
TZOFFSETFROM:+0100
TZOFFSETTO:+0000
TZNAME:GMT
DTSTART:20251026T010000
END:STANDARD
END:VTIMEZONE
BEGIN:VTIMEZONE
TZID:UTC
BEGIN:STANDARD
TZOFFSETFROM:+0000
TZOFFSETTO:+0000
TZNAME:UTC
DTSTART:20230101T000000
END:STANDARD
END:VTIMEZONE
BEGIN:VEVENT
DTSTART;VALUE=DATE:20241013
DTEND;VALUE=DATE:20241014
DTSTAMP:20260423T165929
CREATED:20240405T171956Z
LAST-MODIFIED:20241013T152559Z
UID:652-1728777600-1728863999@haighhall-golfclub.co.uk
SUMMARY:Yellow Ball
DESCRIPTION:Winners \n\nP Mills\nL Filbin\nP Hepworth
URL:https://haighhall-golfclub.co.uk/competitions/yellow-ball/
END:VEVENT
BEGIN:VEVENT
DTSTART;VALUE=DATE:20241012
DTEND;VALUE=DATE:20241013
DTSTAMP:20260423T165929
CREATED:20240405T172241Z
LAST-MODIFIED:20241012T160935Z
UID:707-1728691200-1728777599@haighhall-golfclub.co.uk
SUMMARY:October Medal
DESCRIPTION:Winner. \n\nD Caton\n\nDivision \n\nJ Shepherd
URL:https://haighhall-golfclub.co.uk/competitions/october-medal/
END:VEVENT
BEGIN:VEVENT
DTSTART;TZID=UTC:20241009T080000
DTEND;TZID=UTC:20241009T170000
DTSTAMP:20260423T165929
CREATED:20241017T152440Z
LAST-MODIFIED:20241017T152535Z
UID:953-1728460800-1728493200@haighhall-golfclub.co.uk
SUMMARY:Aggregate Round 1
DESCRIPTION:Winners \n\n1st D Derbyshire\n2nd B Leahy\n3rd P Jennings
URL:https://haighhall-golfclub.co.uk/competitions/aggregate-round-1-2/
END:VEVENT
BEGIN:VEVENT
DTSTART;VALUE=DATE:20241006
DTEND;VALUE=DATE:20241007
DTSTAMP:20260423T165929
CREATED:20240405T171956Z
LAST-MODIFIED:20241006T170948Z
UID:651-1728172800-1728259199@haighhall-golfclub.co.uk
SUMMARY:Haigh Rumble
DESCRIPTION:Winner \n\nL Gray\n\nSecond \n\nP Hepworth\n\nThird \n\nC Williams
URL:https://haighhall-golfclub.co.uk/competitions/haigh-rumble/
END:VEVENT
BEGIN:VEVENT
DTSTART;VALUE=DATE:20241005
DTEND;VALUE=DATE:20241006
DTSTAMP:20260423T165929
CREATED:20240405T172241Z
LAST-MODIFIED:20240405T172241Z
UID:706-1728086400-1728172799@haighhall-golfclub.co.uk
SUMMARY:Final Jack Corrigan Merit
DESCRIPTION:
URL:https://haighhall-golfclub.co.uk/competitions/final-jack-corrigan-merit/
END:VEVENT
BEGIN:VEVENT
DTSTART;TZID=UTC:20241002T080000
DTEND;TZID=UTC:20241002T170000
DTSTAMP:20260423T165929
CREATED:20241002T183529Z
LAST-MODIFIED:20241002T183637Z
UID:945-1727856000-1727888400@haighhall-golfclub.co.uk
SUMMARY:Seniors Aggregate Round 1
DESCRIPTION:Winner \n\nN Guy\n\nSecond \n\nP O’Neil\n\nThird \n\nB Leahy
URL:https://haighhall-golfclub.co.uk/competitions/seniors-aggregate-round-1/
END:VEVENT
BEGIN:VEVENT
DTSTART;TZID=UTC:20241002T080000
DTEND;TZID=UTC:20241002T170000
DTSTAMP:20260423T165929
CREATED:20240918T193145Z
LAST-MODIFIED:20240918T193145Z
UID:936-1727856000-1727888400@haighhall-golfclub.co.uk
SUMMARY:Aggregate Round 1
DESCRIPTION:
URL:https://haighhall-golfclub.co.uk/competitions/aggregate-round-1/
END:VEVENT
BEGIN:VEVENT
DTSTART;VALUE=DATE:20240929
DTEND;VALUE=DATE:20240930
DTSTAMP:20260423T165929
CREATED:20240405T171955Z
LAST-MODIFIED:20240930T082313Z
UID:650-1727568000-1727654399@haighhall-golfclub.co.uk
SUMMARY:Two Left Feet Trophy Round 2
DESCRIPTION:Winners \n\nS Davies\, D Owen\, D Hayes & K White\n\nTrophy Winner \n\nC Seabrook
URL:https://haighhall-golfclub.co.uk/competitions/two-left-feet-trophy-round-2/
END:VEVENT
BEGIN:VEVENT
DTSTART;VALUE=DATE:20240928
DTEND;VALUE=DATE:20240929
DTSTAMP:20260423T165929
CREATED:20240405T172241Z
LAST-MODIFIED:20240928T184956Z
UID:705-1727481600-1727567999@haighhall-golfclub.co.uk
SUMMARY:September Medal
DESCRIPTION:Winner \n\nL Gray\n\nDivisional Winner \n\nJ Shepherd
URL:https://haighhall-golfclub.co.uk/competitions/september-medal/
END:VEVENT
BEGIN:VEVENT
DTSTART;VALUE=DATE:20240925
DTEND;VALUE=DATE:20240926
DTSTAMP:20260423T165929
CREATED:20240405T172127Z
LAST-MODIFIED:20240405T172127Z
UID:679-1727222400-1727308799@haighhall-golfclub.co.uk
SUMMARY:Final Seniors Merit
DESCRIPTION:
URL:https://haighhall-golfclub.co.uk/competitions/final-seniors-merit/
END:VEVENT
BEGIN:VEVENT
DTSTART;VALUE=DATE:20240922
DTEND;VALUE=DATE:20240923
DTSTAMP:20260423T165929
CREATED:20240405T171953Z
LAST-MODIFIED:20240922T173604Z
UID:649-1726963200-1727049599@haighhall-golfclub.co.uk
SUMMARY:Ed Smith Trophy
DESCRIPTION:Winner \n\nA Hodges\n\nDivisional Winners \n\nA Ball\nP Perkins\nN Guy
URL:https://haighhall-golfclub.co.uk/competitions/ed-smith-trophy/
END:VEVENT
BEGIN:VEVENT
DTSTART;VALUE=DATE:20240921
DTEND;VALUE=DATE:20240922
DTSTAMP:20260423T165929
CREATED:20240405T172241Z
LAST-MODIFIED:20240922T173430Z
UID:704-1726876800-1726963199@haighhall-golfclub.co.uk
SUMMARY:Jack Corrigan Merit
DESCRIPTION:Winner \n\nD Caton\n\nSecond \n\nB McDonnell
URL:https://haighhall-golfclub.co.uk/competitions/jack-corrigan-merit-9/
END:VEVENT
BEGIN:VEVENT
DTSTART;VALUE=DATE:20240918
DTEND;VALUE=DATE:20240919
DTSTAMP:20260423T165929
CREATED:20240405T172127Z
LAST-MODIFIED:20240918T192852Z
UID:676-1726617600-1726703999@haighhall-golfclub.co.uk
SUMMARY:Closing Medal
DESCRIPTION:Winner \n\nD Derbyshire\n\nDivision Winner \n\nS Turner
URL:https://haighhall-golfclub.co.uk/competitions/closing-medal/
END:VEVENT
BEGIN:VEVENT
DTSTART;VALUE=DATE:20240915
DTEND;VALUE=DATE:20240916
DTSTAMP:20260423T165929
CREATED:20240405T171953Z
LAST-MODIFIED:20240916T094224Z
UID:648-1726358400-1726444799@haighhall-golfclub.co.uk
SUMMARY:John Hunt Trophy
DESCRIPTION:Winners \n\nD Owen & D Leyland\n\nSecond \n\nB Leahy & A Hodges
URL:https://haighhall-golfclub.co.uk/competitions/john-hunt-trophy/
END:VEVENT
BEGIN:VEVENT
DTSTART;VALUE=DATE:20240914
DTEND;VALUE=DATE:20240915
DTSTAMP:20260423T165929
CREATED:20240405T172240Z
LAST-MODIFIED:20240916T094322Z
UID:703-1726272000-1726358399@haighhall-golfclub.co.uk
SUMMARY:David Jones
DESCRIPTION:Winner \n\nD Moore\n\nDivision \n\nJ Egan
URL:https://haighhall-golfclub.co.uk/competitions/david-jones/
END:VEVENT
BEGIN:VEVENT
DTSTART;VALUE=DATE:20240911
DTEND;VALUE=DATE:20240912
DTSTAMP:20260423T165929
CREATED:20240405T172127Z
LAST-MODIFIED:20240916T094458Z
UID:677-1726012800-1726099199@haighhall-golfclub.co.uk
SUMMARY:Seniors Merit
DESCRIPTION:Winner \n\nF Carberry\n\nSecond \n\nP Perkins
URL:https://haighhall-golfclub.co.uk/competitions/seniors-merit-7/
END:VEVENT
BEGIN:VEVENT
DTSTART;VALUE=DATE:20240908
DTEND;VALUE=DATE:20240909
DTSTAMP:20260423T165929
CREATED:20240405T171953Z
LAST-MODIFIED:20240908T151742Z
UID:647-1725753600-1725839999@haighhall-golfclub.co.uk
SUMMARY:Harold Hughes
DESCRIPTION:Overall Winner \n\nM Connor\n\nDivisional Winners \n\nL Filbin\nC Gallagher\nA Toole
URL:https://haighhall-golfclub.co.uk/competitions/harold-hughes/
END:VEVENT
BEGIN:VEVENT
DTSTART;VALUE=DATE:20240907
DTEND;VALUE=DATE:20240908
DTSTAMP:20260423T165929
CREATED:20240405T172240Z
LAST-MODIFIED:20240907T180012Z
UID:702-1725667200-1725753599@haighhall-golfclub.co.uk
SUMMARY:Pat and Frank Dawber Trophy
DESCRIPTION:Overall Winners \n\nN Unsworth & D Honor
URL:https://haighhall-golfclub.co.uk/competitions/pat-and-frank-dawber-trophy/
END:VEVENT
BEGIN:VEVENT
DTSTART;VALUE=DATE:20240905
DTEND;VALUE=DATE:20240906
DTSTAMP:20260423T165929
CREATED:20240405T172248Z
LAST-MODIFIED:20240405T173617Z
UID:737-1725494400-1725580799@haighhall-golfclub.co.uk
SUMMARY:Thursday Merit
DESCRIPTION:
URL:https://haighhall-golfclub.co.uk/competitions/thursday-merit-8/
CATEGORIES:9 Hole Competition
END:VEVENT
BEGIN:VEVENT
DTSTART;VALUE=DATE:20240904
DTEND;VALUE=DATE:20240905
DTSTAMP:20260423T165929
CREATED:20240405T172123Z
LAST-MODIFIED:20240907T180321Z
UID:673-1725408000-1725494399@haighhall-golfclub.co.uk
SUMMARY:Steve Eyres Trophy
DESCRIPTION:Overall Winner \n\nR Sinclair\n\nDivisional Winners \n\nP Wood\nH Wilcox
URL:https://haighhall-golfclub.co.uk/competitions/steve-eyres-trophy/
END:VEVENT
BEGIN:VEVENT
DTSTART;VALUE=DATE:20240901
DTEND;VALUE=DATE:20240902
DTSTAMP:20260423T165929
CREATED:20240405T171953Z
LAST-MODIFIED:20240901T170456Z
UID:646-1725148800-1725235199@haighhall-golfclub.co.uk
SUMMARY:Jack Frost
DESCRIPTION:Overall Winner \n\nP Jennings\n\nDivisional Winners \n\nP Mills\nA Baybutt\nL Gray
URL:https://haighhall-golfclub.co.uk/competitions/jack-frost/
CATEGORIES:Ian Lee Merit
END:VEVENT
BEGIN:VEVENT
DTSTART;VALUE=DATE:20240831
DTEND;VALUE=DATE:20240901
DTSTAMP:20260423T165929
CREATED:20240405T172240Z
LAST-MODIFIED:20240405T172240Z
UID:701-1725062400-1725148799@haighhall-golfclub.co.uk
SUMMARY:Jack Corrigan Merit
DESCRIPTION:
URL:https://haighhall-golfclub.co.uk/competitions/jack-corrigan-merit-8/
END:VEVENT
BEGIN:VEVENT
DTSTART;VALUE=DATE:20240829
DTEND;VALUE=DATE:20240830
DTSTAMP:20260423T165929
CREATED:20240405T172248Z
LAST-MODIFIED:20240830T164943Z
UID:736-1724889600-1724975999@haighhall-golfclub.co.uk
SUMMARY:Stan Caldwell Final
DESCRIPTION:Overall Winner \n\nD Coyne
URL:https://haighhall-golfclub.co.uk/competitions/stan-caldwell-final/
CATEGORIES:9 Hole Competition
END:VEVENT
BEGIN:VEVENT
DTSTART;VALUE=DATE:20240828
DTEND;VALUE=DATE:20240829
DTSTAMP:20260423T165929
CREATED:20240405T172124Z
LAST-MODIFIED:20240828T180323Z
UID:674-1724803200-1724889599@haighhall-golfclub.co.uk
SUMMARY:Seniors Merit Round 2
DESCRIPTION:Winner \n\nR Sinclair\n\nSecond \n\nB Leahy
URL:https://haighhall-golfclub.co.uk/competitions/seniors-merit-6/
END:VEVENT
BEGIN:VEVENT
DTSTART;VALUE=DATE:20240825
DTEND;VALUE=DATE:20240826
DTSTAMP:20260423T165929
CREATED:20240405T171953Z
LAST-MODIFIED:20240825T144210Z
UID:645-1724544000-1724630399@haighhall-golfclub.co.uk
SUMMARY:Thomas Chute Bogey
DESCRIPTION:Overall Winner \n\nM Connor\n\nDivisional Winners \n\nP Jennings\nB Leahy\nD Coyne
URL:https://haighhall-golfclub.co.uk/competitions/thomas-chute-bogey/
END:VEVENT
BEGIN:VEVENT
DTSTART;VALUE=DATE:20240824
DTEND;VALUE=DATE:20240825
DTSTAMP:20260423T165929
CREATED:20240405T172240Z
LAST-MODIFIED:20240824T151053Z
UID:700-1724457600-1724543999@haighhall-golfclub.co.uk
SUMMARY:August Medal
DESCRIPTION:Overall Winner \n\nD Moore\n\nDivisional Winner \n\nC Gallagher
URL:https://haighhall-golfclub.co.uk/competitions/august-medal/
END:VEVENT
BEGIN:VEVENT
DTSTART;VALUE=DATE:20240822
DTEND;VALUE=DATE:20240823
DTSTAMP:20260423T165929
CREATED:20240405T172248Z
LAST-MODIFIED:20240405T173600Z
UID:735-1724284800-1724371199@haighhall-golfclub.co.uk
SUMMARY:Alan Hamblett Award
DESCRIPTION:
URL:https://haighhall-golfclub.co.uk/competitions/alan-hamblett-award-5/
CATEGORIES:9 Hole Competition
END:VEVENT
BEGIN:VEVENT
DTSTART;VALUE=DATE:20240821
DTEND;VALUE=DATE:20240822
DTSTAMP:20260423T165929
CREATED:20240405T172123Z
LAST-MODIFIED:20240822T190113Z
UID:672-1724198400-1724284799@haighhall-golfclub.co.uk
SUMMARY:Seniors August Medal
DESCRIPTION:Winner P Serventi \nDivision J Lawton
URL:https://haighhall-golfclub.co.uk/competitions/seniors-august-medal/
END:VEVENT
BEGIN:VEVENT
DTSTART;VALUE=DATE:20240818
DTEND;VALUE=DATE:20240819
DTSTAMP:20260423T165929
CREATED:20240405T171753Z
LAST-MODIFIED:20240823T105417Z
UID:644-1723939200-1724025599@haighhall-golfclub.co.uk
SUMMARY:Rose bowl
DESCRIPTION:Overall Winner \n\nG Honor\n\nDivisional Winners \n\nI Speak\nS Turner\nL Gray
URL:https://haighhall-golfclub.co.uk/competitions/rose-bowl/
CATEGORIES:Ian Lee Merit
END:VEVENT
BEGIN:VEVENT
DTSTART;VALUE=DATE:20240817
DTEND;VALUE=DATE:20240818
DTSTAMP:20260423T165929
CREATED:20240405T172239Z
LAST-MODIFIED:20240405T172239Z
UID:699-1723852800-1723939199@haighhall-golfclub.co.uk
SUMMARY:Jack Corrigan Merit
DESCRIPTION:
URL:https://haighhall-golfclub.co.uk/competitions/jack-corrigan-merit-7/
END:VEVENT
END:VCALENDAR