BEGIN:VCALENDAR
VERSION:2.0
PRODID:-//Haigh Hall Golf Club - ECPv6.15.20//NONSGML v1.0//EN
CALSCALE:GREGORIAN
METHOD:PUBLISH
X-WR-CALNAME:Haigh Hall Golf Club
X-ORIGINAL-URL:https://haighhall-golfclub.co.uk
X-WR-CALDESC:Events for Haigh Hall Golf Club
REFRESH-INTERVAL;VALUE=DURATION:PT1H
X-Robots-Tag:noindex
X-PUBLISHED-TTL:PT1H
BEGIN:VTIMEZONE
TZID:UTC
BEGIN:STANDARD
TZOFFSETFROM:+0000
TZOFFSETTO:+0000
TZNAME:UTC
DTSTART:20230101T000000
END:STANDARD
END:VTIMEZONE
BEGIN:VTIMEZONE
TZID:Europe/London
BEGIN:DAYLIGHT
TZOFFSETFROM:+0000
TZOFFSETTO:+0100
TZNAME:BST
DTSTART:20230326T010000
END:DAYLIGHT
BEGIN:STANDARD
TZOFFSETFROM:+0100
TZOFFSETTO:+0000
TZNAME:GMT
DTSTART:20231029T010000
END:STANDARD
BEGIN:DAYLIGHT
TZOFFSETFROM:+0000
TZOFFSETTO:+0100
TZNAME:BST
DTSTART:20240331T010000
END:DAYLIGHT
BEGIN:STANDARD
TZOFFSETFROM:+0100
TZOFFSETTO:+0000
TZNAME:GMT
DTSTART:20241027T010000
END:STANDARD
BEGIN:DAYLIGHT
TZOFFSETFROM:+0000
TZOFFSETTO:+0100
TZNAME:BST
DTSTART:20250330T010000
END:DAYLIGHT
BEGIN:STANDARD
TZOFFSETFROM:+0100
TZOFFSETTO:+0000
TZNAME:GMT
DTSTART:20251026T010000
END:STANDARD
END:VTIMEZONE
BEGIN:VEVENT
DTSTART;TZID=UTC:20241215T080000
DTEND;TZID=UTC:20241215T170000
DTSTAMP:20260423T101531
CREATED:20241215T161754Z
LAST-MODIFIED:20241215T161754Z
UID:998-1734249600-1734282000@haighhall-golfclub.co.uk
SUMMARY:Texas Scramble
DESCRIPTION:Winners. \n\nA Hamblett\nA Hodges\nP O’Neil
URL:https://haighhall-golfclub.co.uk/competitions/texas-scramble-2/
END:VEVENT
BEGIN:VEVENT
DTSTART;TZID=UTC:20241214T080000
DTEND;TZID=UTC:20241214T170000
DTSTAMP:20260423T101531
CREATED:20241214T155958Z
LAST-MODIFIED:20241214T155958Z
UID:996-1734163200-1734195600@haighhall-golfclub.co.uk
SUMMARY:Saturday Merit Round 7
DESCRIPTION:Winners \n\n1st J Egan 40pts\n2nd I Speak 36pts\n3rd D Honor & M Gillard 35pts
URL:https://haighhall-golfclub.co.uk/competitions/saturday-merit-round-7-2/
END:VEVENT
BEGIN:VEVENT
DTSTART;TZID=UTC:20241211T080000
DTEND;TZID=UTC:20241211T170000
DTSTAMP:20260423T101531
CREATED:20241214T155754Z
LAST-MODIFIED:20241214T155754Z
UID:994-1733904000-1733936400@haighhall-golfclub.co.uk
SUMMARY:Seniors Winter league round 7
DESCRIPTION:Winners \n\n1st M Jukes 26 pts\n2nd B McDonnell 24pts\n3rd A Culshaw 23pts
URL:https://haighhall-golfclub.co.uk/competitions/seniors-winter-league-round-7/
END:VEVENT
BEGIN:VEVENT
DTSTART;TZID=UTC:20241204T080000
DTEND;TZID=UTC:20241204T170000
DTSTAMP:20260423T101531
CREATED:20241205T092046Z
LAST-MODIFIED:20241205T092046Z
UID:987-1733299200-1733331600@haighhall-golfclub.co.uk
SUMMARY:Seniors Winter League Round 6
DESCRIPTION:Winners. \n\n1st B McDonnell & M Jukes 21 pts\n3rd F Carberry 20 pts
URL:https://haighhall-golfclub.co.uk/competitions/seniors-winter-league-round-6/
END:VEVENT
BEGIN:VEVENT
DTSTART;TZID=UTC:20241201T080000
DTEND;TZID=UTC:20241201T170000
DTSTAMP:20260423T101531
CREATED:20241205T092246Z
LAST-MODIFIED:20241205T092417Z
UID:989-1733040000-1733072400@haighhall-golfclub.co.uk
SUMMARY:Singles Winter League Round 3
DESCRIPTION:Winners. \n\n1st J Egan 37 pts\n2nd B McDonnell 36 pts
URL:https://haighhall-golfclub.co.uk/competitions/saturday-merit-round-7/
END:VEVENT
BEGIN:VEVENT
DTSTART;TZID=UTC:20241130T080000
DTEND;TZID=UTC:20241130T170000
DTSTAMP:20260423T101531
CREATED:20241130T171756Z
LAST-MODIFIED:20241130T171756Z
UID:985-1732953600-1732986000@haighhall-golfclub.co.uk
SUMMARY:Saturday Merit Round 6
DESCRIPTION:Winners \n\n1st D Caton 38 pts\n2nd B McDonnell 37 pts\n3rd D Middleton 36 pts
URL:https://haighhall-golfclub.co.uk/competitions/saturday-merit-round-6/
END:VEVENT
BEGIN:VEVENT
DTSTART;TZID=UTC:20241117T080000
DTEND;TZID=UTC:20241117T170000
DTSTAMP:20260423T101531
CREATED:20241117T184059Z
LAST-MODIFIED:20241117T184059Z
UID:976-1731830400-1731862800@haighhall-golfclub.co.uk
SUMMARY:Singles Winter League Rnd 2
DESCRIPTION:Winners \n\nB Higham 24pts\nM Connor 24pts\n\nSecond \n\nC Cavanagh 23pts\nN Guy 23pts
URL:https://haighhall-golfclub.co.uk/competitions/singles-winter-league-rnd-2/
END:VEVENT
BEGIN:VEVENT
DTSTART;TZID=UTC:20241116T080000
DTEND;TZID=UTC:20241116T170000
DTSTAMP:20260423T101531
CREATED:20241123T153456Z
LAST-MODIFIED:20241123T153456Z
UID:980-1731744000-1731776400@haighhall-golfclub.co.uk
SUMMARY:Saturday Merit Round 5
DESCRIPTION:Winners \n\n1st D Paterson 30 pts\n2nd M Reeves 29 pts\n3rd M Harrison 28 pts\n3rd M Gillard 28pts
URL:https://haighhall-golfclub.co.uk/competitions/saturday-merit-round-5/
END:VEVENT
BEGIN:VEVENT
DTSTART;TZID=UTC:20241110T080000
DTEND;TZID=UTC:20241110T170000
DTSTAMP:20260423T101531
CREATED:20241123T153730Z
LAST-MODIFIED:20241123T153730Z
UID:982-1731225600-1731258000@haighhall-golfclub.co.uk
SUMMARY:Pairs Winter League Round 1
DESCRIPTION:Winners \n\n1st M Gillard & B Higham 44 pts\n2nd F Carberry & P Jennings 43 pts\n2nd P Hepworth & T Hepworth 43 pts
URL:https://haighhall-golfclub.co.uk/competitions/pairs-winter-league-round-1/
END:VEVENT
BEGIN:VEVENT
DTSTART;TZID=UTC:20241109T080000
DTEND;TZID=UTC:20241109T170000
DTSTAMP:20260423T101531
CREATED:20241123T153304Z
LAST-MODIFIED:20241123T153304Z
UID:978-1731139200-1731171600@haighhall-golfclub.co.uk
SUMMARY:Saturday Merit Round 4
DESCRIPTION:Winners \n\n1st L Gray 39 pts\n2nd  W Schofield 37 pts\n3rd  D Caton 35 pts\n3rd D Moore 35 pts
URL:https://haighhall-golfclub.co.uk/competitions/saturday-merit-round-4/
END:VEVENT
BEGIN:VEVENT
DTSTART;TZID=UTC:20241103T080000
DTEND;TZID=UTC:20241103T170000
DTSTAMP:20260423T101531
CREATED:20241103T205110Z
LAST-MODIFIED:20241103T205110Z
UID:971-1730620800-1730653200@haighhall-golfclub.co.uk
SUMMARY:Singles Winter Lge Rnd 1
DESCRIPTION:Winners \n\n1st P Hepworth 43 pts\n2nd C Seabrook 40 pts\n3rd T Hepworth 39 pts
URL:https://haighhall-golfclub.co.uk/competitions/singles-winter-lge-rnd-1/
END:VEVENT
BEGIN:VEVENT
DTSTART;TZID=UTC:20241102T080000
DTEND;TZID=UTC:20241102T170000
DTSTAMP:20260423T101531
CREATED:20241103T204907Z
LAST-MODIFIED:20241103T221831Z
UID:969-1730534400-1730566800@haighhall-golfclub.co.uk
SUMMARY:Saturday Merit Round 3
DESCRIPTION:Winners \n\n1st N Unsworth 38 pts\n2nd J Egan 35 pts\n3rd M Gillard 34 pts
URL:https://haighhall-golfclub.co.uk/competitions/saturday-merit-round-3/
END:VEVENT
BEGIN:VEVENT
DTSTART;TZID=UTC:20241030T080000
DTEND;TZID=UTC:20241030T170000
DTSTAMP:20260423T101531
CREATED:20241103T222122Z
LAST-MODIFIED:20241103T222122Z
UID:973-1730275200-1730307600@haighhall-golfclub.co.uk
SUMMARY:Seniors Winter Lge rnd 1
DESCRIPTION:Winners \n\n1st  A Culshaw\n2nd M Jukes\n3rd  P O’Neil
URL:https://haighhall-golfclub.co.uk/competitions/seniors-winter-lge-rnd-1/
END:VEVENT
BEGIN:VEVENT
DTSTART;TZID=UTC:20241027T080000
DTEND;TZID=UTC:20241027T170000
DTSTAMP:20260423T101531
CREATED:20241027T181910Z
LAST-MODIFIED:20241027T181910Z
UID:964-1730016000-1730048400@haighhall-golfclub.co.uk
SUMMARY:Reverse Waltz
DESCRIPTION:Winners \n\nI Speak\nP Jennings\nB Leahy
URL:https://haighhall-golfclub.co.uk/competitions/reverse-waltz/
END:VEVENT
BEGIN:VEVENT
DTSTART;TZID=UTC:20241026T080000
DTEND;TZID=UTC:20241026T170000
DTSTAMP:20260423T101531
CREATED:20241027T182049Z
LAST-MODIFIED:20241027T182252Z
UID:966-1729929600-1729962000@haighhall-golfclub.co.uk
SUMMARY:Saturday Merit Rnd 2
DESCRIPTION:Winner \n\nJ Egan\n\nSecond \n\nD Caton\n\nThird \n\nB McDonnell
URL:https://haighhall-golfclub.co.uk/competitions/saturday-merit-rnd-2/
END:VEVENT
BEGIN:VEVENT
DTSTART;TZID=UTC:20241023T080000
DTEND;TZID=UTC:20241023T170000
DTSTAMP:20260423T101531
CREATED:20241023T173629Z
LAST-MODIFIED:20241023T173629Z
UID:962-1729670400-1729702800@haighhall-golfclub.co.uk
SUMMARY:Aggregate Round 4
DESCRIPTION:Winner \n\nP Perkins\n\nSecond \n\nB Leahy\n\nThird \n\nD Derbyshire
URL:https://haighhall-golfclub.co.uk/competitions/aggregate-round-4/
END:VEVENT
BEGIN:VEVENT
DTSTART;VALUE=DATE:20241020
DTEND;VALUE=DATE:20241021
DTSTAMP:20260423T101531
CREATED:20240405T171956Z
LAST-MODIFIED:20241020T183759Z
UID:653-1729382400-1729468799@haighhall-golfclub.co.uk
SUMMARY:Blind Pairs
DESCRIPTION:Winners. \n\nA Toole and S Pennington\n\nSecond \n\nB McDonnell and P Hepworth
URL:https://haighhall-golfclub.co.uk/competitions/blind-pairs/
END:VEVENT
BEGIN:VEVENT
DTSTART;TZID=UTC:20241016T080000
DTEND;TZID=UTC:20241016T170000
DTSTAMP:20260423T101531
CREATED:20241017T152617Z
LAST-MODIFIED:20241017T152708Z
UID:956-1729065600-1729098000@haighhall-golfclub.co.uk
SUMMARY:Aggregate Round 3
DESCRIPTION:Winners \n\n1st N Guy\n2nd B Leahy\n3rd P Wood
URL:https://haighhall-golfclub.co.uk/competitions/aggregate-round-3/
END:VEVENT
BEGIN:VEVENT
DTSTART;VALUE=DATE:20241013
DTEND;VALUE=DATE:20241014
DTSTAMP:20260423T101531
CREATED:20240405T171956Z
LAST-MODIFIED:20241013T152559Z
UID:652-1728777600-1728863999@haighhall-golfclub.co.uk
SUMMARY:Yellow Ball
DESCRIPTION:Winners \n\nP Mills\nL Filbin\nP Hepworth
URL:https://haighhall-golfclub.co.uk/competitions/yellow-ball/
END:VEVENT
BEGIN:VEVENT
DTSTART;VALUE=DATE:20241012
DTEND;VALUE=DATE:20241013
DTSTAMP:20260423T101531
CREATED:20240405T172241Z
LAST-MODIFIED:20241012T160935Z
UID:707-1728691200-1728777599@haighhall-golfclub.co.uk
SUMMARY:October Medal
DESCRIPTION:Winner. \n\nD Caton\n\nDivision \n\nJ Shepherd
URL:https://haighhall-golfclub.co.uk/competitions/october-medal/
END:VEVENT
BEGIN:VEVENT
DTSTART;TZID=UTC:20241009T080000
DTEND;TZID=UTC:20241009T170000
DTSTAMP:20260423T101531
CREATED:20241017T152440Z
LAST-MODIFIED:20241017T152535Z
UID:953-1728460800-1728493200@haighhall-golfclub.co.uk
SUMMARY:Aggregate Round 1
DESCRIPTION:Winners \n\n1st D Derbyshire\n2nd B Leahy\n3rd P Jennings
URL:https://haighhall-golfclub.co.uk/competitions/aggregate-round-1-2/
END:VEVENT
BEGIN:VEVENT
DTSTART;VALUE=DATE:20241006
DTEND;VALUE=DATE:20241007
DTSTAMP:20260423T101531
CREATED:20240405T171956Z
LAST-MODIFIED:20241006T170948Z
UID:651-1728172800-1728259199@haighhall-golfclub.co.uk
SUMMARY:Haigh Rumble
DESCRIPTION:Winner \n\nL Gray\n\nSecond \n\nP Hepworth\n\nThird \n\nC Williams
URL:https://haighhall-golfclub.co.uk/competitions/haigh-rumble/
END:VEVENT
BEGIN:VEVENT
DTSTART;VALUE=DATE:20241005
DTEND;VALUE=DATE:20241006
DTSTAMP:20260423T101531
CREATED:20240405T172241Z
LAST-MODIFIED:20240405T172241Z
UID:706-1728086400-1728172799@haighhall-golfclub.co.uk
SUMMARY:Final Jack Corrigan Merit
DESCRIPTION:
URL:https://haighhall-golfclub.co.uk/competitions/final-jack-corrigan-merit/
END:VEVENT
BEGIN:VEVENT
DTSTART;TZID=UTC:20241002T080000
DTEND;TZID=UTC:20241002T170000
DTSTAMP:20260423T101531
CREATED:20241002T183529Z
LAST-MODIFIED:20241002T183637Z
UID:945-1727856000-1727888400@haighhall-golfclub.co.uk
SUMMARY:Seniors Aggregate Round 1
DESCRIPTION:Winner \n\nN Guy\n\nSecond \n\nP O’Neil\n\nThird \n\nB Leahy
URL:https://haighhall-golfclub.co.uk/competitions/seniors-aggregate-round-1/
END:VEVENT
BEGIN:VEVENT
DTSTART;TZID=UTC:20241002T080000
DTEND;TZID=UTC:20241002T170000
DTSTAMP:20260423T101531
CREATED:20240918T193145Z
LAST-MODIFIED:20240918T193145Z
UID:936-1727856000-1727888400@haighhall-golfclub.co.uk
SUMMARY:Aggregate Round 1
DESCRIPTION:
URL:https://haighhall-golfclub.co.uk/competitions/aggregate-round-1/
END:VEVENT
BEGIN:VEVENT
DTSTART;VALUE=DATE:20240929
DTEND;VALUE=DATE:20240930
DTSTAMP:20260423T101531
CREATED:20240405T171955Z
LAST-MODIFIED:20240930T082313Z
UID:650-1727568000-1727654399@haighhall-golfclub.co.uk
SUMMARY:Two Left Feet Trophy Round 2
DESCRIPTION:Winners \n\nS Davies\, D Owen\, D Hayes & K White\n\nTrophy Winner \n\nC Seabrook
URL:https://haighhall-golfclub.co.uk/competitions/two-left-feet-trophy-round-2/
END:VEVENT
BEGIN:VEVENT
DTSTART;VALUE=DATE:20240928
DTEND;VALUE=DATE:20240929
DTSTAMP:20260423T101531
CREATED:20240405T172241Z
LAST-MODIFIED:20240928T184956Z
UID:705-1727481600-1727567999@haighhall-golfclub.co.uk
SUMMARY:September Medal
DESCRIPTION:Winner \n\nL Gray\n\nDivisional Winner \n\nJ Shepherd
URL:https://haighhall-golfclub.co.uk/competitions/september-medal/
END:VEVENT
BEGIN:VEVENT
DTSTART;VALUE=DATE:20240925
DTEND;VALUE=DATE:20240926
DTSTAMP:20260423T101531
CREATED:20240405T172127Z
LAST-MODIFIED:20240405T172127Z
UID:679-1727222400-1727308799@haighhall-golfclub.co.uk
SUMMARY:Final Seniors Merit
DESCRIPTION:
URL:https://haighhall-golfclub.co.uk/competitions/final-seniors-merit/
END:VEVENT
BEGIN:VEVENT
DTSTART;VALUE=DATE:20240922
DTEND;VALUE=DATE:20240923
DTSTAMP:20260423T101531
CREATED:20240405T171953Z
LAST-MODIFIED:20240922T173604Z
UID:649-1726963200-1727049599@haighhall-golfclub.co.uk
SUMMARY:Ed Smith Trophy
DESCRIPTION:Winner \n\nA Hodges\n\nDivisional Winners \n\nA Ball\nP Perkins\nN Guy
URL:https://haighhall-golfclub.co.uk/competitions/ed-smith-trophy/
END:VEVENT
BEGIN:VEVENT
DTSTART;VALUE=DATE:20240921
DTEND;VALUE=DATE:20240922
DTSTAMP:20260423T101531
CREATED:20240405T172241Z
LAST-MODIFIED:20240922T173430Z
UID:704-1726876800-1726963199@haighhall-golfclub.co.uk
SUMMARY:Jack Corrigan Merit
DESCRIPTION:Winner \n\nD Caton\n\nSecond \n\nB McDonnell
URL:https://haighhall-golfclub.co.uk/competitions/jack-corrigan-merit-9/
END:VEVENT
END:VCALENDAR