BEGIN:VCALENDAR
VERSION:2.0
PRODID:-//Haigh Hall Golf Club - ECPv6.15.20//NONSGML v1.0//EN
CALSCALE:GREGORIAN
METHOD:PUBLISH
X-ORIGINAL-URL:https://haighhall-golfclub.co.uk
X-WR-CALDESC:Events for Haigh Hall Golf Club
REFRESH-INTERVAL;VALUE=DURATION:PT1H
X-Robots-Tag:noindex
X-PUBLISHED-TTL:PT1H
BEGIN:VTIMEZONE
TZID:UTC
BEGIN:STANDARD
TZOFFSETFROM:+0000
TZOFFSETTO:+0000
TZNAME:UTC
DTSTART:20250101T000000
END:STANDARD
END:VTIMEZONE
BEGIN:VEVENT
DTSTART;TZID=UTC:20260902T080000
DTEND;TZID=UTC:20260902T170000
DTSTAMP:20260422T221333
CREATED:20260220T102139Z
LAST-MODIFIED:20260220T102139Z
UID:1487-1788336000-1788368400@haighhall-golfclub.co.uk
SUMMARY:Sen Merit Rnd 8
DESCRIPTION:
URL:https://haighhall-golfclub.co.uk/competitions/sen-merit-rnd-8/
END:VEVENT
BEGIN:VEVENT
DTSTART;TZID=UTC:20260903T080000
DTEND;TZID=UTC:20260903T170000
DTSTAMP:20260422T221333
CREATED:20260220T101326Z
LAST-MODIFIED:20260220T101326Z
UID:1471-1788422400-1788454800@haighhall-golfclub.co.uk
SUMMARY:Final Thursday Merit
DESCRIPTION:
URL:https://haighhall-golfclub.co.uk/competitions/final-thursday-merit/
END:VEVENT
BEGIN:VEVENT
DTSTART;TZID=UTC:20260905T080000
DTEND;TZID=UTC:20260905T170000
DTSTAMP:20260422T221333
CREATED:20260220T092503Z
LAST-MODIFIED:20260220T092503Z
UID:1375-1788595200-1788627600@haighhall-golfclub.co.uk
SUMMARY:Pat and Frank Dawber Trophy
DESCRIPTION:
URL:https://haighhall-golfclub.co.uk/competitions/pat-and-frank-dawber-trophy-3/
END:VEVENT
BEGIN:VEVENT
DTSTART;TZID=UTC:20260909T080000
DTEND;TZID=UTC:20260909T170000
DTSTAMP:20260422T221333
CREATED:20260220T103359Z
LAST-MODIFIED:20260220T103359Z
UID:1521-1788940800-1788973200@haighhall-golfclub.co.uk
SUMMARY:William Harrison Trophy
DESCRIPTION:
URL:https://haighhall-golfclub.co.uk/competitions/william-harrison-trophy-2/
END:VEVENT
BEGIN:VEVENT
DTSTART;TZID=UTC:20260912T080000
DTEND;TZID=UTC:20260912T170000
DTSTAMP:20260422T221333
CREATED:20260220T092552Z
LAST-MODIFIED:20260220T092552Z
UID:1377-1789200000-1789232400@haighhall-golfclub.co.uk
SUMMARY:David Jones
DESCRIPTION:
URL:https://haighhall-golfclub.co.uk/competitions/david-jones-2/
END:VEVENT
BEGIN:VEVENT
DTSTART;TZID=UTC:20260916T080000
DTEND;TZID=UTC:20260916T170000
DTSTAMP:20260422T221333
CREATED:20260220T103435Z
LAST-MODIFIED:20260220T103435Z
UID:1523-1789545600-1789578000@haighhall-golfclub.co.uk
SUMMARY:Sen Closing Medal
DESCRIPTION:
URL:https://haighhall-golfclub.co.uk/competitions/sen-closing-medal/
END:VEVENT
BEGIN:VEVENT
DTSTART;TZID=UTC:20260919T080000
DTEND;TZID=UTC:20260919T170000
DTSTAMP:20260422T221333
CREATED:20260220T092633Z
LAST-MODIFIED:20260220T092633Z
UID:1379-1789804800-1789837200@haighhall-golfclub.co.uk
SUMMARY:Merit Rnd 11 Sat
DESCRIPTION:
URL:https://haighhall-golfclub.co.uk/competitions/merit-rnd-11-sat/
END:VEVENT
BEGIN:VEVENT
DTSTART;TZID=UTC:20260923T080000
DTEND;TZID=UTC:20260923T170000
DTSTAMP:20260422T221333
CREATED:20260220T102219Z
LAST-MODIFIED:20260220T102219Z
UID:1489-1790150400-1790182800@haighhall-golfclub.co.uk
SUMMARY:Sen Merit Final Rnd
DESCRIPTION:
URL:https://haighhall-golfclub.co.uk/competitions/sen-merit-final-rnd/
END:VEVENT
BEGIN:VEVENT
DTSTART;TZID=UTC:20260926T080000
DTEND;TZID=UTC:20260926T170000
DTSTAMP:20260422T221333
CREATED:20260220T092711Z
LAST-MODIFIED:20260220T092711Z
UID:1381-1790409600-1790442000@haighhall-golfclub.co.uk
SUMMARY:September Medal
DESCRIPTION:
URL:https://haighhall-golfclub.co.uk/competitions/september-medal-2/
END:VEVENT
BEGIN:VEVENT
DTSTART;TZID=UTC:20261003T080000
DTEND;TZID=UTC:20261003T170000
DTSTAMP:20260422T221333
CREATED:20260220T092746Z
LAST-MODIFIED:20260220T092746Z
UID:1383-1791014400-1791046800@haighhall-golfclub.co.uk
SUMMARY:Final Merit Sat
DESCRIPTION:
URL:https://haighhall-golfclub.co.uk/competitions/final-merit-sat/
END:VEVENT
BEGIN:VEVENT
DTSTART;TZID=UTC:20261010T080000
DTEND;TZID=UTC:20261010T170000
DTSTAMP:20260422T221333
CREATED:20260220T092826Z
LAST-MODIFIED:20260220T092826Z
UID:1385-1791619200-1791651600@haighhall-golfclub.co.uk
SUMMARY:October Medal
DESCRIPTION:
URL:https://haighhall-golfclub.co.uk/competitions/october-medal-2/
END:VEVENT
END:VCALENDAR