BEGIN:VCALENDAR
VERSION:2.0
PRODID:-//Haigh Hall Golf Club - ECPv6.15.20//NONSGML v1.0//EN
CALSCALE:GREGORIAN
METHOD:PUBLISH
X-WR-CALNAME:Haigh Hall Golf Club
X-ORIGINAL-URL:https://haighhall-golfclub.co.uk
X-WR-CALDESC:Events for Haigh Hall Golf Club
REFRESH-INTERVAL;VALUE=DURATION:PT1H
X-Robots-Tag:noindex
X-PUBLISHED-TTL:PT1H
BEGIN:VTIMEZONE
TZID:UTC
BEGIN:STANDARD
TZOFFSETFROM:+0000
TZOFFSETTO:+0000
TZNAME:UTC
DTSTART:20250101T000000
END:STANDARD
END:VTIMEZONE
BEGIN:VEVENT
DTSTART;TZID=UTC:20260730T080000
DTEND;TZID=UTC:20260730T170000
DTSTAMP:20260422T221305
CREATED:20260220T100919Z
LAST-MODIFIED:20260220T100919Z
UID:1461-1785398400-1785430800@haighhall-golfclub.co.uk
SUMMARY:Stan Caldwell Award
DESCRIPTION:
URL:https://haighhall-golfclub.co.uk/competitions/stan-caldwell-award-4/
END:VEVENT
BEGIN:VEVENT
DTSTART;TZID=UTC:20260729T080000
DTEND;TZID=UTC:20260729T170000
DTSTAMP:20260422T221305
CREATED:20260220T103101Z
LAST-MODIFIED:20260220T103101Z
UID:1513-1785312000-1785344400@haighhall-golfclub.co.uk
SUMMARY:Sen July Medal
DESCRIPTION:
URL:https://haighhall-golfclub.co.uk/competitions/sen-july-medal/
END:VEVENT
BEGIN:VEVENT
DTSTART;TZID=UTC:20260726T080000
DTEND;TZID=UTC:20260726T170000
DTSTAMP:20260422T221305
CREATED:20260220T094618Z
LAST-MODIFIED:20260220T094618Z
UID:1421-1785052800-1785085200@haighhall-golfclub.co.uk
SUMMARY:Secretary's Cup
DESCRIPTION:
URL:https://haighhall-golfclub.co.uk/competitions/secretarys-cup-3/
END:VEVENT
BEGIN:VEVENT
DTSTART;TZID=UTC:20260725T080000
DTEND;TZID=UTC:20260725T170000
DTSTAMP:20260422T221305
CREATED:20260220T092023Z
LAST-MODIFIED:20260220T092023Z
UID:1363-1784966400-1784998800@haighhall-golfclub.co.uk
SUMMARY:July Medal
DESCRIPTION:
URL:https://haighhall-golfclub.co.uk/competitions/july-medal-2/
END:VEVENT
BEGIN:VEVENT
DTSTART;TZID=UTC:20260723T080000
DTEND;TZID=UTC:20260723T170000
DTSTAMP:20260422T221305
CREATED:20260220T100843Z
LAST-MODIFIED:20260220T100843Z
UID:1459-1784793600-1784826000@haighhall-golfclub.co.uk
SUMMARY:Alan Hamblett Award Rnd 4
DESCRIPTION:
URL:https://haighhall-golfclub.co.uk/competitions/alan-hamblett-award-rnd-4/
END:VEVENT
BEGIN:VEVENT
DTSTART;TZID=UTC:20260722T080000
DTEND;TZID=UTC:20260722T170000
DTSTAMP:20260422T221305
CREATED:20260220T103025Z
LAST-MODIFIED:20260220T103025Z
UID:1511-1784707200-1784739600@haighhall-golfclub.co.uk
SUMMARY:Seniors Club Championship Rnd 2
DESCRIPTION:
URL:https://haighhall-golfclub.co.uk/competitions/seniors-club-championship-rnd-2-2/
END:VEVENT
BEGIN:VEVENT
DTSTART;TZID=UTC:20260719T080000
DTEND;TZID=UTC:20260719T170000
DTSTAMP:20260422T221305
CREATED:20260220T094537Z
LAST-MODIFIED:20260220T094537Z
UID:1419-1784448000-1784480400@haighhall-golfclub.co.uk
SUMMARY:Club Championship Rnd 2
DESCRIPTION:
URL:https://haighhall-golfclub.co.uk/competitions/club-championship-rnd-2-2/
END:VEVENT
BEGIN:VEVENT
DTSTART;TZID=UTC:20260716T080000
DTEND;TZID=UTC:20260716T170000
DTSTAMP:20260422T221305
CREATED:20260220T100751Z
LAST-MODIFIED:20260220T100751Z
UID:1457-1784188800-1784221200@haighhall-golfclub.co.uk
SUMMARY:Thursday Merit Rnd 5
DESCRIPTION:
URL:https://haighhall-golfclub.co.uk/competitions/thursday-merit-rnd-5/
END:VEVENT
BEGIN:VEVENT
DTSTART;TZID=UTC:20260715T080000
DTEND;TZID=UTC:20260715T170000
DTSTAMP:20260422T221305
CREATED:20260220T102956Z
LAST-MODIFIED:20260220T102956Z
UID:1509-1784102400-1784134800@haighhall-golfclub.co.uk
SUMMARY:Seniors Club Championship Rnd 1
DESCRIPTION:
URL:https://haighhall-golfclub.co.uk/competitions/seniors-club-championship-rnd-1-2/
END:VEVENT
BEGIN:VEVENT
DTSTART;TZID=UTC:20260712T080000
DTEND;TZID=UTC:20260712T170000
DTSTAMP:20260422T221305
CREATED:20260220T094436Z
LAST-MODIFIED:20260220T094436Z
UID:1417-1783843200-1783875600@haighhall-golfclub.co.uk
SUMMARY:Club Championship Rnd 1
DESCRIPTION:
URL:https://haighhall-golfclub.co.uk/competitions/club-championship-rnd-1-2/
END:VEVENT
BEGIN:VEVENT
DTSTART;TZID=UTC:20260709T080000
DTEND;TZID=UTC:20260709T170000
DTSTAMP:20260422T221305
CREATED:20260220T100704Z
LAST-MODIFIED:20260220T100704Z
UID:1455-1783584000-1783616400@haighhall-golfclub.co.uk
SUMMARY:Stan Caldwell
DESCRIPTION:
URL:https://haighhall-golfclub.co.uk/competitions/stan-caldwell-8/
END:VEVENT
BEGIN:VEVENT
DTSTART;TZID=UTC:20260708T080000
DTEND;TZID=UTC:20260708T170000
DTSTAMP:20260422T221305
CREATED:20260220T102013Z
LAST-MODIFIED:20260220T102013Z
UID:1483-1783497600-1783530000@haighhall-golfclub.co.uk
SUMMARY:Sen Merit Rnd 6
DESCRIPTION:
URL:https://haighhall-golfclub.co.uk/competitions/sen-merit-rnd-6/
END:VEVENT
BEGIN:VEVENT
DTSTART;TZID=UTC:20260705T080000
DTEND;TZID=UTC:20260705T170000
DTSTAMP:20260422T221305
CREATED:20260220T094349Z
LAST-MODIFIED:20260220T094349Z
UID:1415-1783238400-1783270800@haighhall-golfclub.co.uk
SUMMARY:John Egan Pairs
DESCRIPTION:
URL:https://haighhall-golfclub.co.uk/competitions/john-egan-pairs/
END:VEVENT
BEGIN:VEVENT
DTSTART;TZID=UTC:20260704T080000
DTEND;TZID=UTC:20260704T170000
DTSTAMP:20260422T221305
CREATED:20260220T091952Z
LAST-MODIFIED:20260220T091952Z
UID:1361-1783152000-1783184400@haighhall-golfclub.co.uk
SUMMARY:Farrimond Sheild
DESCRIPTION:
URL:https://haighhall-golfclub.co.uk/competitions/farrimond-sheild-2/
END:VEVENT
BEGIN:VEVENT
DTSTART;TZID=UTC:20260702T080000
DTEND;TZID=UTC:20260702T170000
DTSTAMP:20260422T221305
CREATED:20260220T100611Z
LAST-MODIFIED:20260220T100611Z
UID:1453-1782979200-1783011600@haighhall-golfclub.co.uk
SUMMARY:Thursday Merit Rnd 4
DESCRIPTION:
URL:https://haighhall-golfclub.co.uk/competitions/thursday-merit-rnd-4/
END:VEVENT
BEGIN:VEVENT
DTSTART;TZID=UTC:20260701T080000
DTEND;TZID=UTC:20260701T170000
DTSTAMP:20260422T221305
CREATED:20260220T102908Z
LAST-MODIFIED:20260220T102908Z
UID:1507-1782892800-1782925200@haighhall-golfclub.co.uk
SUMMARY:Captains Cup
DESCRIPTION:
URL:https://haighhall-golfclub.co.uk/competitions/captains-cup-6/
END:VEVENT
BEGIN:VEVENT
DTSTART;TZID=UTC:20260628T080000
DTEND;TZID=UTC:20260628T170000
DTSTAMP:20260422T221305
CREATED:20260220T094311Z
LAST-MODIFIED:20260220T094311Z
UID:1413-1782633600-1782666000@haighhall-golfclub.co.uk
SUMMARY:Jubilee Trophy
DESCRIPTION:
URL:https://haighhall-golfclub.co.uk/competitions/jubilee-trophy-2/
END:VEVENT
BEGIN:VEVENT
DTSTART;TZID=UTC:20260627T080000
DTEND;TZID=UTC:20260627T170000
DTSTAMP:20260422T221305
CREATED:20260220T091903Z
LAST-MODIFIED:20260220T091903Z
UID:1359-1782547200-1782579600@haighhall-golfclub.co.uk
SUMMARY:Merit Rnd 5 Sat
DESCRIPTION:
URL:https://haighhall-golfclub.co.uk/competitions/merit-rnd-5-sat/
END:VEVENT
BEGIN:VEVENT
DTSTART;TZID=UTC:20260625T080000
DTEND;TZID=UTC:20260625T170000
DTSTAMP:20260422T221305
CREATED:20260220T100424Z
LAST-MODIFIED:20260220T100424Z
UID:1451-1782374400-1782406800@haighhall-golfclub.co.uk
SUMMARY:Stan Caldwell Award
DESCRIPTION:
URL:https://haighhall-golfclub.co.uk/competitions/stan-caldwell-award-3/
END:VEVENT
BEGIN:VEVENT
DTSTART;TZID=UTC:20260624T080000
DTEND;TZID=UTC:20260624T170000
DTSTAMP:20260422T221305
CREATED:20260220T101942Z
LAST-MODIFIED:20260220T101942Z
UID:1481-1782288000-1782320400@haighhall-golfclub.co.uk
SUMMARY:Sen Merit Rnd 5
DESCRIPTION:
URL:https://haighhall-golfclub.co.uk/competitions/sen-merit-rnd-5/
END:VEVENT
BEGIN:VEVENT
DTSTART;TZID=UTC:20260621T080000
DTEND;TZID=UTC:20260621T170000
DTSTAMP:20260422T221305
CREATED:20260220T094239Z
LAST-MODIFIED:20260220T094239Z
UID:1411-1782028800-1782061200@haighhall-golfclub.co.uk
SUMMARY:Mike Sidlow Trophy
DESCRIPTION:
URL:https://haighhall-golfclub.co.uk/competitions/mike-sidlow-trophy/
END:VEVENT
BEGIN:VEVENT
DTSTART;TZID=UTC:20260620T080000
DTEND;TZID=UTC:20260620T170000
DTSTAMP:20260422T221305
CREATED:20260220T091800Z
LAST-MODIFIED:20260220T091800Z
UID:1357-1781942400-1781974800@haighhall-golfclub.co.uk
SUMMARY:David Keates Memorial
DESCRIPTION:
URL:https://haighhall-golfclub.co.uk/competitions/david-keates-memorial-2/
END:VEVENT
BEGIN:VEVENT
DTSTART;TZID=UTC:20260618T080000
DTEND;TZID=UTC:20260618T170000
DTSTAMP:20260422T221305
CREATED:20260220T100346Z
LAST-MODIFIED:20260220T100346Z
UID:1449-1781769600-1781802000@haighhall-golfclub.co.uk
SUMMARY:Alan Hamblett Award Rnd 3
DESCRIPTION:
URL:https://haighhall-golfclub.co.uk/competitions/alan-hamblett-award-rnd-3/
END:VEVENT
BEGIN:VEVENT
DTSTART;TZID=UTC:20260617T080000
DTEND;TZID=UTC:20260617T170000
DTSTAMP:20260422T221305
CREATED:20260220T102838Z
LAST-MODIFIED:20260220T102838Z
UID:1505-1781683200-1781715600@haighhall-golfclub.co.uk
SUMMARY:Senior Masters
DESCRIPTION:
URL:https://haighhall-golfclub.co.uk/competitions/senior-masters/
END:VEVENT
BEGIN:VEVENT
DTSTART;TZID=UTC:20260614T080000
DTEND;TZID=UTC:20260614T170000
DTSTAMP:20260422T221305
CREATED:20260220T094159Z
LAST-MODIFIED:20260220T094159Z
UID:1409-1781424000-1781456400@haighhall-golfclub.co.uk
SUMMARY:Masters
DESCRIPTION:
URL:https://haighhall-golfclub.co.uk/competitions/masters-3/
END:VEVENT
BEGIN:VEVENT
DTSTART;TZID=UTC:20260613T080000
DTEND;TZID=UTC:20260613T170000
DTSTAMP:20260422T221305
CREATED:20260220T091717Z
LAST-MODIFIED:20260220T091717Z
UID:1355-1781337600-1781370000@haighhall-golfclub.co.uk
SUMMARY:Merit Rnd 4 Sat
DESCRIPTION:
URL:https://haighhall-golfclub.co.uk/competitions/merit-rnd-4-sat/
END:VEVENT
BEGIN:VEVENT
DTSTART;TZID=UTC:20260611T080000
DTEND;TZID=UTC:20260611T170000
DTSTAMP:20260422T221305
CREATED:20260220T100300Z
LAST-MODIFIED:20260220T100300Z
UID:1447-1781164800-1781197200@haighhall-golfclub.co.uk
SUMMARY:Stan Caldwell Award
DESCRIPTION:
URL:https://haighhall-golfclub.co.uk/competitions/stan-caldwell-award-2/
END:VEVENT
BEGIN:VEVENT
DTSTART;TZID=UTC:20260610T080000
DTEND;TZID=UTC:20260610T170000
DTSTAMP:20260422T221305
CREATED:20260220T102807Z
LAST-MODIFIED:20260220T102807Z
UID:1503-1781078400-1781110800@haighhall-golfclub.co.uk
SUMMARY:Sen June Medal
DESCRIPTION:
URL:https://haighhall-golfclub.co.uk/competitions/sen-june-medal/
END:VEVENT
BEGIN:VEVENT
DTSTART;TZID=UTC:20260607T080000
DTEND;TZID=UTC:20260607T170000
DTSTAMP:20260422T221305
CREATED:20260220T094131Z
LAST-MODIFIED:20260220T094131Z
UID:1407-1780819200-1780851600@haighhall-golfclub.co.uk
SUMMARY:Captains Prize Day
DESCRIPTION:
URL:https://haighhall-golfclub.co.uk/competitions/captains-prize-day-3/
END:VEVENT
BEGIN:VEVENT
DTSTART;TZID=UTC:20260606T080000
DTEND;TZID=UTC:20260606T170000
DTSTAMP:20260422T221305
CREATED:20260220T091633Z
LAST-MODIFIED:20260220T091633Z
UID:1353-1780732800-1780765200@haighhall-golfclub.co.uk
SUMMARY:June Medal
DESCRIPTION:
URL:https://haighhall-golfclub.co.uk/competitions/june-medal-2/
END:VEVENT
END:VCALENDAR