BEGIN:VCALENDAR
VERSION:2.0
PRODID:-//Haigh Hall Golf Club - ECPv6.15.20//NONSGML v1.0//EN
CALSCALE:GREGORIAN
METHOD:PUBLISH
X-ORIGINAL-URL:https://haighhall-golfclub.co.uk
X-WR-CALDESC:Events for Haigh Hall Golf Club
REFRESH-INTERVAL;VALUE=DURATION:PT1H
X-Robots-Tag:noindex
X-PUBLISHED-TTL:PT1H
BEGIN:VTIMEZONE
TZID:Europe/London
BEGIN:DAYLIGHT
TZOFFSETFROM:+0000
TZOFFSETTO:+0100
TZNAME:BST
DTSTART:20230326T010000
END:DAYLIGHT
BEGIN:STANDARD
TZOFFSETFROM:+0100
TZOFFSETTO:+0000
TZNAME:GMT
DTSTART:20231029T010000
END:STANDARD
BEGIN:DAYLIGHT
TZOFFSETFROM:+0000
TZOFFSETTO:+0100
TZNAME:BST
DTSTART:20240331T010000
END:DAYLIGHT
BEGIN:STANDARD
TZOFFSETFROM:+0100
TZOFFSETTO:+0000
TZNAME:GMT
DTSTART:20241027T010000
END:STANDARD
BEGIN:DAYLIGHT
TZOFFSETFROM:+0000
TZOFFSETTO:+0100
TZNAME:BST
DTSTART:20250330T010000
END:DAYLIGHT
BEGIN:STANDARD
TZOFFSETFROM:+0100
TZOFFSETTO:+0000
TZNAME:GMT
DTSTART:20251026T010000
END:STANDARD
END:VTIMEZONE
BEGIN:VEVENT
DTSTART;VALUE=DATE:20240901
DTEND;VALUE=DATE:20240902
DTSTAMP:20260423T004434
CREATED:20240405T171953Z
LAST-MODIFIED:20240901T170456Z
UID:646-1725148800-1725235199@haighhall-golfclub.co.uk
SUMMARY:Jack Frost
DESCRIPTION:Overall Winner \n\nP Jennings\n\nDivisional Winners \n\nP Mills\nA Baybutt\nL Gray
URL:https://haighhall-golfclub.co.uk/competitions/jack-frost/
CATEGORIES:Ian Lee Merit
END:VEVENT
BEGIN:VEVENT
DTSTART;VALUE=DATE:20240818
DTEND;VALUE=DATE:20240819
DTSTAMP:20260423T004434
CREATED:20240405T171753Z
LAST-MODIFIED:20240823T105417Z
UID:644-1723939200-1724025599@haighhall-golfclub.co.uk
SUMMARY:Rose bowl
DESCRIPTION:Overall Winner \n\nG Honor\n\nDivisional Winners \n\nI Speak\nS Turner\nL Gray
URL:https://haighhall-golfclub.co.uk/competitions/rose-bowl/
CATEGORIES:Ian Lee Merit
END:VEVENT
BEGIN:VEVENT
DTSTART;VALUE=DATE:20240804
DTEND;VALUE=DATE:20240805
DTSTAMP:20260423T004434
CREATED:20240405T171753Z
LAST-MODIFIED:20240823T105040Z
UID:642-1722729600-1722815999@haighhall-golfclub.co.uk
SUMMARY:Alderman Walter Somers
DESCRIPTION:Overall Winner \n\nL Filbin\n\nDivisional Winners \n\nJ Shepherd\nP Hitchen\nC Williams
URL:https://haighhall-golfclub.co.uk/competitions/alderman-walter-somers/
CATEGORIES:Ian Lee Merit
END:VEVENT
BEGIN:VEVENT
DTSTART;VALUE=DATE:20240616
DTEND;VALUE=DATE:20240617
DTSTAMP:20260423T004434
CREATED:20240405T171738Z
LAST-MODIFIED:20240823T094930Z
UID:635-1718496000-1718582399@haighhall-golfclub.co.uk
SUMMARY:Masters
DESCRIPTION:Overall Winner \n\nM Sidlow
URL:https://haighhall-golfclub.co.uk/competitions/masters/
CATEGORIES:Ian Lee Merit
END:VEVENT
BEGIN:VEVENT
DTSTART;VALUE=DATE:20240602
DTEND;VALUE=DATE:20240603
DTSTAMP:20260423T004434
CREATED:20240405T171736Z
LAST-MODIFIED:20240823T094708Z
UID:633-1717286400-1717372799@haighhall-golfclub.co.uk
SUMMARY:Jack Ashton
DESCRIPTION:Overall Winner \n\nD Moore\n\nDivisional Winners \n\nM Harrison\nN Ryan\nS Pennington
URL:https://haighhall-golfclub.co.uk/competitions/jack-ashton/
CATEGORIES:Ian Lee Merit
END:VEVENT
BEGIN:VEVENT
DTSTART;VALUE=DATE:20240505
DTEND;VALUE=DATE:20240506
DTSTAMP:20260423T004434
CREATED:20240405T171735Z
LAST-MODIFIED:20240823T094015Z
UID:629-1714867200-1714953599@haighhall-golfclub.co.uk
SUMMARY:Captains Cup
DESCRIPTION:Overall Winner \n\nN Ryan\n\nDivisional Winners \n\nI Speak\nG Honor\nA Toole
URL:https://haighhall-golfclub.co.uk/competitions/captains-cup/
CATEGORIES:Ian Lee Merit
END:VEVENT
END:VCALENDAR