BEGIN:VCALENDAR
VERSION:2.0
PRODID:-//Haigh Hall Golf Club - ECPv6.15.20//NONSGML v1.0//EN
CALSCALE:GREGORIAN
METHOD:PUBLISH
X-ORIGINAL-URL:https://haighhall-golfclub.co.uk
X-WR-CALDESC:Events for Haigh Hall Golf Club
REFRESH-INTERVAL;VALUE=DURATION:PT1H
X-Robots-Tag:noindex
X-PUBLISHED-TTL:PT1H
BEGIN:VTIMEZONE
TZID:Europe/London
BEGIN:DAYLIGHT
TZOFFSETFROM:+0000
TZOFFSETTO:+0100
TZNAME:BST
DTSTART:20230326T010000
END:DAYLIGHT
BEGIN:STANDARD
TZOFFSETFROM:+0100
TZOFFSETTO:+0000
TZNAME:GMT
DTSTART:20231029T010000
END:STANDARD
BEGIN:DAYLIGHT
TZOFFSETFROM:+0000
TZOFFSETTO:+0100
TZNAME:BST
DTSTART:20240331T010000
END:DAYLIGHT
BEGIN:STANDARD
TZOFFSETFROM:+0100
TZOFFSETTO:+0000
TZNAME:GMT
DTSTART:20241027T010000
END:STANDARD
BEGIN:DAYLIGHT
TZOFFSETFROM:+0000
TZOFFSETTO:+0100
TZNAME:BST
DTSTART:20250330T010000
END:DAYLIGHT
BEGIN:STANDARD
TZOFFSETFROM:+0100
TZOFFSETTO:+0000
TZNAME:GMT
DTSTART:20251026T010000
END:STANDARD
END:VTIMEZONE
BEGIN:VEVENT
DTSTART;VALUE=DATE:20240718
DTEND;VALUE=DATE:20240719
DTSTAMP:20260422T233524
CREATED:20240405T172247Z
LAST-MODIFIED:20240405T173617Z
UID:730-1721260800-1721347199@haighhall-golfclub.co.uk
SUMMARY:Thursday Merit
DESCRIPTION:
URL:https://haighhall-golfclub.co.uk/competitions/thursday-merit-6/
CATEGORIES:9 Hole Competition
END:VEVENT
BEGIN:VEVENT
DTSTART;VALUE=DATE:20240711
DTEND;VALUE=DATE:20240712
DTSTAMP:20260422T233524
CREATED:20240405T172245Z
LAST-MODIFIED:20240405T173726Z
UID:724-1720656000-1720742399@haighhall-golfclub.co.uk
SUMMARY:Stan Caldwell
DESCRIPTION:
URL:https://haighhall-golfclub.co.uk/competitions/stan-caldwell-5/
CATEGORIES:9 Hole Competition
END:VEVENT
BEGIN:VEVENT
DTSTART;VALUE=DATE:20240704
DTEND;VALUE=DATE:20240705
DTSTAMP:20260422T233524
CREATED:20240405T172245Z
LAST-MODIFIED:20240405T173617Z
UID:723-1720051200-1720137599@haighhall-golfclub.co.uk
SUMMARY:Thursday Merit
DESCRIPTION:
URL:https://haighhall-golfclub.co.uk/competitions/thursday-merit-5/
CATEGORIES:9 Hole Competition
END:VEVENT
BEGIN:VEVENT
DTSTART;VALUE=DATE:20240627
DTEND;VALUE=DATE:20240628
DTSTAMP:20260422T233524
CREATED:20240405T172245Z
LAST-MODIFIED:20240405T173726Z
UID:722-1719446400-1719532799@haighhall-golfclub.co.uk
SUMMARY:Stan Caldwell
DESCRIPTION:
URL:https://haighhall-golfclub.co.uk/competitions/stan-caldwell-4/
CATEGORIES:9 Hole Competition
END:VEVENT
BEGIN:VEVENT
DTSTART;VALUE=DATE:20240620
DTEND;VALUE=DATE:20240621
DTSTAMP:20260422T233524
CREATED:20240405T172245Z
LAST-MODIFIED:20240405T173600Z
UID:721-1718841600-1718927999@haighhall-golfclub.co.uk
SUMMARY:Alan Hamblett Award
DESCRIPTION:
URL:https://haighhall-golfclub.co.uk/competitions/alan-hamblett-award-3/
CATEGORIES:9 Hole Competition
END:VEVENT
BEGIN:VEVENT
DTSTART;VALUE=DATE:20240613
DTEND;VALUE=DATE:20240614
DTSTAMP:20260422T233524
CREATED:20240405T172244Z
LAST-MODIFIED:20240405T173726Z
UID:720-1718236800-1718323199@haighhall-golfclub.co.uk
SUMMARY:Stan Caldwell
DESCRIPTION:
URL:https://haighhall-golfclub.co.uk/competitions/stan-caldwell-3/
CATEGORIES:9 Hole Competition
END:VEVENT
BEGIN:VEVENT
DTSTART;VALUE=DATE:20240606
DTEND;VALUE=DATE:20240607
DTSTAMP:20260422T233524
CREATED:20240405T172243Z
LAST-MODIFIED:20240405T173617Z
UID:714-1717632000-1717718399@haighhall-golfclub.co.uk
SUMMARY:Thursday Merit
DESCRIPTION:
URL:https://haighhall-golfclub.co.uk/competitions/thursday-merit-3/
CATEGORIES:9 Hole Competition
END:VEVENT
BEGIN:VEVENT
DTSTART;VALUE=DATE:20240530
DTEND;VALUE=DATE:20240531
DTSTAMP:20260422T233524
CREATED:20240405T172243Z
LAST-MODIFIED:20240405T173726Z
UID:713-1717027200-1717113599@haighhall-golfclub.co.uk
SUMMARY:Stan Caldwell
DESCRIPTION:
URL:https://haighhall-golfclub.co.uk/competitions/stan-caldwell-2/
CATEGORIES:9 Hole Competition
END:VEVENT
BEGIN:VEVENT
DTSTART;VALUE=DATE:20240523
DTEND;VALUE=DATE:20240524
DTSTAMP:20260422T233524
CREATED:20240405T172243Z
LAST-MODIFIED:20240405T173600Z
UID:712-1716422400-1716508799@haighhall-golfclub.co.uk
SUMMARY:Alan Hamblett Award
DESCRIPTION:
URL:https://haighhall-golfclub.co.uk/competitions/alan-hamblett-award-2/
CATEGORIES:9 Hole Competition
END:VEVENT
BEGIN:VEVENT
DTSTART;VALUE=DATE:20240516
DTEND;VALUE=DATE:20240517
DTSTAMP:20260422T233524
CREATED:20240405T172242Z
LAST-MODIFIED:20240405T173617Z
UID:711-1715817600-1715903999@haighhall-golfclub.co.uk
SUMMARY:Thursday Merit
DESCRIPTION:
URL:https://haighhall-golfclub.co.uk/competitions/thursday-merit-2/
CATEGORIES:9 Hole Competition
END:VEVENT
BEGIN:VEVENT
DTSTART;VALUE=DATE:20240509
DTEND;VALUE=DATE:20240510
DTSTAMP:20260422T233524
CREATED:20240405T172242Z
LAST-MODIFIED:20240405T173617Z
UID:710-1715212800-1715299199@haighhall-golfclub.co.uk
SUMMARY:Thursday Merit
DESCRIPTION:
URL:https://haighhall-golfclub.co.uk/competitions/thursday-merit/
CATEGORIES:9 Hole Competition
END:VEVENT
BEGIN:VEVENT
DTSTART;VALUE=DATE:20240502
DTEND;VALUE=DATE:20240503
DTSTAMP:20260422T233524
CREATED:20240405T172242Z
LAST-MODIFIED:20240405T173726Z
UID:709-1714608000-1714694399@haighhall-golfclub.co.uk
SUMMARY:Stan Caldwell
DESCRIPTION:
URL:https://haighhall-golfclub.co.uk/competitions/stan-caldwell/
CATEGORIES:9 Hole Competition
END:VEVENT
BEGIN:VEVENT
DTSTART;VALUE=DATE:20240425
DTEND;VALUE=DATE:20240426
DTSTAMP:20260422T233524
CREATED:20240405T172242Z
LAST-MODIFIED:20240405T173600Z
UID:708-1714003200-1714089599@haighhall-golfclub.co.uk
SUMMARY:Alan Hamblett Award
DESCRIPTION:
URL:https://haighhall-golfclub.co.uk/competitions/alan-hamblett-award/
CATEGORIES:9 Hole Competition
END:VEVENT
END:VCALENDAR